BEGIN:VCALENDAR
VERSION:2.0
PRODID:-//RCCG House of Praise, Dallas - ECPv6.8.2.1//NONSGML v1.0//EN
CALSCALE:GREGORIAN
METHOD:PUBLISH
X-WR-CALNAME:RCCG House of Praise, Dallas
X-ORIGINAL-URL:https://houseofpraiserichardson.org
X-WR-CALDESC:Events for RCCG House of Praise, Dallas
REFRESH-INTERVAL;VALUE=DURATION:PT1H
X-Robots-Tag:noindex
X-PUBLISHED-TTL:PT1H
BEGIN:VTIMEZONE
TZID:America/New_York
BEGIN:DAYLIGHT
TZOFFSETFROM:-0500
TZOFFSETTO:-0400
TZNAME:EDT
DTSTART:20280312T070000
END:DAYLIGHT
BEGIN:STANDARD
TZOFFSETFROM:-0400
TZOFFSETTO:-0500
TZNAME:EST
DTSTART:20281105T060000
END:STANDARD
BEGIN:DAYLIGHT
TZOFFSETFROM:-0500
TZOFFSETTO:-0400
TZNAME:EDT
DTSTART:20290311T070000
END:DAYLIGHT
BEGIN:STANDARD
TZOFFSETFROM:-0400
TZOFFSETTO:-0500
TZNAME:EST
DTSTART:20291104T060000
END:STANDARD
END:VTIMEZONE
BEGIN:VEVENT
DTSTART;TZID=America/New_York:20281105T100000
DTEND;TZID=America/New_York:20281105T113000
DTSTAMP:20260424T143739
CREATED:20190917T092646Z
LAST-MODIFIED:20241122T174830Z
UID:10000256-1857031200-1857036600@houseofpraiserichardson.org
SUMMARY:Sunday Service
DESCRIPTION:Join us on Sunday for a time of praise\, worship\, fellowship and empowerment.
URL:https://houseofpraiserichardson.org/event/church-sunday/2028-11-05/
LOCATION:Main Auditorium\, House of Praise\, 401 Bowser Road\, Richardson\, TX\, 75081\, United States
CATEGORIES:University
ATTACH;FMTTYPE=image/jpeg:https://houseofpraiserichardson.org/wp-content/uploads/2019/09/DSC_2535-scaled.jpg
ORGANIZER;CN="House of Praise":MAILTO:info@houseofpraiserichardson.org
END:VEVENT
BEGIN:VEVENT
DTSTART;TZID=America/New_York:20281112T100000
DTEND;TZID=America/New_York:20281112T113000
DTSTAMP:20260424T143739
CREATED:20190917T092646Z
LAST-MODIFIED:20241122T174830Z
UID:10000257-1857636000-1857641400@houseofpraiserichardson.org
SUMMARY:Sunday Service
DESCRIPTION:Join us on Sunday for a time of praise\, worship\, fellowship and empowerment.
URL:https://houseofpraiserichardson.org/event/church-sunday/2028-11-12/
LOCATION:Main Auditorium\, House of Praise\, 401 Bowser Road\, Richardson\, TX\, 75081\, United States
CATEGORIES:University
ATTACH;FMTTYPE=image/jpeg:https://houseofpraiserichardson.org/wp-content/uploads/2019/09/DSC_2535-scaled.jpg
ORGANIZER;CN="House of Praise":MAILTO:info@houseofpraiserichardson.org
END:VEVENT
BEGIN:VEVENT
DTSTART;TZID=America/New_York:20281119T100000
DTEND;TZID=America/New_York:20281119T113000
DTSTAMP:20260424T143739
CREATED:20190917T092646Z
LAST-MODIFIED:20241122T174830Z
UID:10000258-1858240800-1858246200@houseofpraiserichardson.org
SUMMARY:Sunday Service
DESCRIPTION:Join us on Sunday for a time of praise\, worship\, fellowship and empowerment.
URL:https://houseofpraiserichardson.org/event/church-sunday/2028-11-19/
LOCATION:Main Auditorium\, House of Praise\, 401 Bowser Road\, Richardson\, TX\, 75081\, United States
CATEGORIES:University
ATTACH;FMTTYPE=image/jpeg:https://houseofpraiserichardson.org/wp-content/uploads/2019/09/DSC_2535-scaled.jpg
ORGANIZER;CN="House of Praise":MAILTO:info@houseofpraiserichardson.org
END:VEVENT
BEGIN:VEVENT
DTSTART;TZID=America/New_York:20281126T100000
DTEND;TZID=America/New_York:20281126T113000
DTSTAMP:20260424T143739
CREATED:20190917T092646Z
LAST-MODIFIED:20241122T174830Z
UID:10000259-1858845600-1858851000@houseofpraiserichardson.org
SUMMARY:Sunday Service
DESCRIPTION:Join us on Sunday for a time of praise\, worship\, fellowship and empowerment.
URL:https://houseofpraiserichardson.org/event/church-sunday/2028-11-26/
LOCATION:Main Auditorium\, House of Praise\, 401 Bowser Road\, Richardson\, TX\, 75081\, United States
CATEGORIES:University
ATTACH;FMTTYPE=image/jpeg:https://houseofpraiserichardson.org/wp-content/uploads/2019/09/DSC_2535-scaled.jpg
ORGANIZER;CN="House of Praise":MAILTO:info@houseofpraiserichardson.org
END:VEVENT
BEGIN:VEVENT
DTSTART;TZID=America/New_York:20281203T100000
DTEND;TZID=America/New_York:20281203T113000
DTSTAMP:20260424T143739
CREATED:20190917T092646Z
LAST-MODIFIED:20241122T174830Z
UID:10000260-1859450400-1859455800@houseofpraiserichardson.org
SUMMARY:Sunday Service
DESCRIPTION:Join us on Sunday for a time of praise\, worship\, fellowship and empowerment.
URL:https://houseofpraiserichardson.org/event/church-sunday/2028-12-03/
LOCATION:Main Auditorium\, House of Praise\, 401 Bowser Road\, Richardson\, TX\, 75081\, United States
CATEGORIES:University
ATTACH;FMTTYPE=image/jpeg:https://houseofpraiserichardson.org/wp-content/uploads/2019/09/DSC_2535-scaled.jpg
ORGANIZER;CN="House of Praise":MAILTO:info@houseofpraiserichardson.org
END:VEVENT
BEGIN:VEVENT
DTSTART;TZID=America/New_York:20281210T100000
DTEND;TZID=America/New_York:20281210T113000
DTSTAMP:20260424T143739
CREATED:20190917T092646Z
LAST-MODIFIED:20241122T174830Z
UID:10000261-1860055200-1860060600@houseofpraiserichardson.org
SUMMARY:Sunday Service
DESCRIPTION:Join us on Sunday for a time of praise\, worship\, fellowship and empowerment.
URL:https://houseofpraiserichardson.org/event/church-sunday/2028-12-10/
LOCATION:Main Auditorium\, House of Praise\, 401 Bowser Road\, Richardson\, TX\, 75081\, United States
CATEGORIES:University
ATTACH;FMTTYPE=image/jpeg:https://houseofpraiserichardson.org/wp-content/uploads/2019/09/DSC_2535-scaled.jpg
ORGANIZER;CN="House of Praise":MAILTO:info@houseofpraiserichardson.org
END:VEVENT
BEGIN:VEVENT
DTSTART;TZID=America/New_York:20281217T100000
DTEND;TZID=America/New_York:20281217T113000
DTSTAMP:20260424T143739
CREATED:20190917T092646Z
LAST-MODIFIED:20241122T174830Z
UID:10000262-1860660000-1860665400@houseofpraiserichardson.org
SUMMARY:Sunday Service
DESCRIPTION:Join us on Sunday for a time of praise\, worship\, fellowship and empowerment.
URL:https://houseofpraiserichardson.org/event/church-sunday/2028-12-17/
LOCATION:Main Auditorium\, House of Praise\, 401 Bowser Road\, Richardson\, TX\, 75081\, United States
CATEGORIES:University
ATTACH;FMTTYPE=image/jpeg:https://houseofpraiserichardson.org/wp-content/uploads/2019/09/DSC_2535-scaled.jpg
ORGANIZER;CN="House of Praise":MAILTO:info@houseofpraiserichardson.org
END:VEVENT
BEGIN:VEVENT
DTSTART;TZID=America/New_York:20281224T100000
DTEND;TZID=America/New_York:20281224T113000
DTSTAMP:20260424T143739
CREATED:20190917T092646Z
LAST-MODIFIED:20241122T174830Z
UID:10000263-1861264800-1861270200@houseofpraiserichardson.org
SUMMARY:Sunday Service
DESCRIPTION:Join us on Sunday for a time of praise\, worship\, fellowship and empowerment.
URL:https://houseofpraiserichardson.org/event/church-sunday/2028-12-24/
LOCATION:Main Auditorium\, House of Praise\, 401 Bowser Road\, Richardson\, TX\, 75081\, United States
CATEGORIES:University
ATTACH;FMTTYPE=image/jpeg:https://houseofpraiserichardson.org/wp-content/uploads/2019/09/DSC_2535-scaled.jpg
ORGANIZER;CN="House of Praise":MAILTO:info@houseofpraiserichardson.org
END:VEVENT
BEGIN:VEVENT
DTSTART;TZID=America/New_York:20281231T100000
DTEND;TZID=America/New_York:20281231T113000
DTSTAMP:20260424T143739
CREATED:20190917T092646Z
LAST-MODIFIED:20241122T174830Z
UID:10000264-1861869600-1861875000@houseofpraiserichardson.org
SUMMARY:Sunday Service
DESCRIPTION:Join us on Sunday for a time of praise\, worship\, fellowship and empowerment.
URL:https://houseofpraiserichardson.org/event/church-sunday/2028-12-31/
LOCATION:Main Auditorium\, House of Praise\, 401 Bowser Road\, Richardson\, TX\, 75081\, United States
CATEGORIES:University
ATTACH;FMTTYPE=image/jpeg:https://houseofpraiserichardson.org/wp-content/uploads/2019/09/DSC_2535-scaled.jpg
ORGANIZER;CN="House of Praise":MAILTO:info@houseofpraiserichardson.org
END:VEVENT
BEGIN:VEVENT
DTSTART;TZID=America/New_York:20290107T100000
DTEND;TZID=America/New_York:20290107T113000
DTSTAMP:20260424T143739
CREATED:20190917T092646Z
LAST-MODIFIED:20241122T174830Z
UID:10000265-1862474400-1862479800@houseofpraiserichardson.org
SUMMARY:Sunday Service
DESCRIPTION:Join us on Sunday for a time of praise\, worship\, fellowship and empowerment.
URL:https://houseofpraiserichardson.org/event/church-sunday/2029-01-07/
LOCATION:Main Auditorium\, House of Praise\, 401 Bowser Road\, Richardson\, TX\, 75081\, United States
CATEGORIES:University
ATTACH;FMTTYPE=image/jpeg:https://houseofpraiserichardson.org/wp-content/uploads/2019/09/DSC_2535-scaled.jpg
ORGANIZER;CN="House of Praise":MAILTO:info@houseofpraiserichardson.org
END:VEVENT
BEGIN:VEVENT
DTSTART;TZID=America/New_York:20290114T100000
DTEND;TZID=America/New_York:20290114T113000
DTSTAMP:20260424T143739
CREATED:20190917T092646Z
LAST-MODIFIED:20241122T174830Z
UID:10000266-1863079200-1863084600@houseofpraiserichardson.org
SUMMARY:Sunday Service
DESCRIPTION:Join us on Sunday for a time of praise\, worship\, fellowship and empowerment.
URL:https://houseofpraiserichardson.org/event/church-sunday/2029-01-14/
LOCATION:Main Auditorium\, House of Praise\, 401 Bowser Road\, Richardson\, TX\, 75081\, United States
CATEGORIES:University
ATTACH;FMTTYPE=image/jpeg:https://houseofpraiserichardson.org/wp-content/uploads/2019/09/DSC_2535-scaled.jpg
ORGANIZER;CN="House of Praise":MAILTO:info@houseofpraiserichardson.org
END:VEVENT
BEGIN:VEVENT
DTSTART;TZID=America/New_York:20290121T100000
DTEND;TZID=America/New_York:20290121T113000
DTSTAMP:20260424T143739
CREATED:20190917T092646Z
LAST-MODIFIED:20241122T174830Z
UID:10000267-1863684000-1863689400@houseofpraiserichardson.org
SUMMARY:Sunday Service
DESCRIPTION:Join us on Sunday for a time of praise\, worship\, fellowship and empowerment.
URL:https://houseofpraiserichardson.org/event/church-sunday/2029-01-21/
LOCATION:Main Auditorium\, House of Praise\, 401 Bowser Road\, Richardson\, TX\, 75081\, United States
CATEGORIES:University
ATTACH;FMTTYPE=image/jpeg:https://houseofpraiserichardson.org/wp-content/uploads/2019/09/DSC_2535-scaled.jpg
ORGANIZER;CN="House of Praise":MAILTO:info@houseofpraiserichardson.org
END:VEVENT
BEGIN:VEVENT
DTSTART;TZID=America/New_York:20290128T100000
DTEND;TZID=America/New_York:20290128T113000
DTSTAMP:20260424T143739
CREATED:20190917T092646Z
LAST-MODIFIED:20241122T174830Z
UID:10000268-1864288800-1864294200@houseofpraiserichardson.org
SUMMARY:Sunday Service
DESCRIPTION:Join us on Sunday for a time of praise\, worship\, fellowship and empowerment.
URL:https://houseofpraiserichardson.org/event/church-sunday/2029-01-28/
LOCATION:Main Auditorium\, House of Praise\, 401 Bowser Road\, Richardson\, TX\, 75081\, United States
CATEGORIES:University
ATTACH;FMTTYPE=image/jpeg:https://houseofpraiserichardson.org/wp-content/uploads/2019/09/DSC_2535-scaled.jpg
ORGANIZER;CN="House of Praise":MAILTO:info@houseofpraiserichardson.org
END:VEVENT
BEGIN:VEVENT
DTSTART;TZID=America/New_York:20290204T100000
DTEND;TZID=America/New_York:20290204T113000
DTSTAMP:20260424T143739
CREATED:20190917T092646Z
LAST-MODIFIED:20241122T174830Z
UID:10000269-1864893600-1864899000@houseofpraiserichardson.org
SUMMARY:Sunday Service
DESCRIPTION:Join us on Sunday for a time of praise\, worship\, fellowship and empowerment.
URL:https://houseofpraiserichardson.org/event/church-sunday/2029-02-04/
LOCATION:Main Auditorium\, House of Praise\, 401 Bowser Road\, Richardson\, TX\, 75081\, United States
CATEGORIES:University
ATTACH;FMTTYPE=image/jpeg:https://houseofpraiserichardson.org/wp-content/uploads/2019/09/DSC_2535-scaled.jpg
ORGANIZER;CN="House of Praise":MAILTO:info@houseofpraiserichardson.org
END:VEVENT
BEGIN:VEVENT
DTSTART;TZID=America/New_York:20290211T100000
DTEND;TZID=America/New_York:20290211T113000
DTSTAMP:20260424T143739
CREATED:20190917T092646Z
LAST-MODIFIED:20241122T174830Z
UID:10000270-1865498400-1865503800@houseofpraiserichardson.org
SUMMARY:Sunday Service
DESCRIPTION:Join us on Sunday for a time of praise\, worship\, fellowship and empowerment.
URL:https://houseofpraiserichardson.org/event/church-sunday/2029-02-11/
LOCATION:Main Auditorium\, House of Praise\, 401 Bowser Road\, Richardson\, TX\, 75081\, United States
CATEGORIES:University
ATTACH;FMTTYPE=image/jpeg:https://houseofpraiserichardson.org/wp-content/uploads/2019/09/DSC_2535-scaled.jpg
ORGANIZER;CN="House of Praise":MAILTO:info@houseofpraiserichardson.org
END:VEVENT
BEGIN:VEVENT
DTSTART;TZID=America/New_York:20290218T100000
DTEND;TZID=America/New_York:20290218T113000
DTSTAMP:20260424T143739
CREATED:20190917T092646Z
LAST-MODIFIED:20241122T174830Z
UID:10000271-1866103200-1866108600@houseofpraiserichardson.org
SUMMARY:Sunday Service
DESCRIPTION:Join us on Sunday for a time of praise\, worship\, fellowship and empowerment.
URL:https://houseofpraiserichardson.org/event/church-sunday/2029-02-18/
LOCATION:Main Auditorium\, House of Praise\, 401 Bowser Road\, Richardson\, TX\, 75081\, United States
CATEGORIES:University
ATTACH;FMTTYPE=image/jpeg:https://houseofpraiserichardson.org/wp-content/uploads/2019/09/DSC_2535-scaled.jpg
ORGANIZER;CN="House of Praise":MAILTO:info@houseofpraiserichardson.org
END:VEVENT
BEGIN:VEVENT
DTSTART;TZID=America/New_York:20290225T100000
DTEND;TZID=America/New_York:20290225T113000
DTSTAMP:20260424T143739
CREATED:20190917T092646Z
LAST-MODIFIED:20241122T174830Z
UID:10000272-1866708000-1866713400@houseofpraiserichardson.org
SUMMARY:Sunday Service
DESCRIPTION:Join us on Sunday for a time of praise\, worship\, fellowship and empowerment.
URL:https://houseofpraiserichardson.org/event/church-sunday/2029-02-25/
LOCATION:Main Auditorium\, House of Praise\, 401 Bowser Road\, Richardson\, TX\, 75081\, United States
CATEGORIES:University
ATTACH;FMTTYPE=image/jpeg:https://houseofpraiserichardson.org/wp-content/uploads/2019/09/DSC_2535-scaled.jpg
ORGANIZER;CN="House of Praise":MAILTO:info@houseofpraiserichardson.org
END:VEVENT
BEGIN:VEVENT
DTSTART;TZID=America/New_York:20290304T100000
DTEND;TZID=America/New_York:20290304T113000
DTSTAMP:20260424T143739
CREATED:20190917T092646Z
LAST-MODIFIED:20241122T174830Z
UID:10000273-1867312800-1867318200@houseofpraiserichardson.org
SUMMARY:Sunday Service
DESCRIPTION:Join us on Sunday for a time of praise\, worship\, fellowship and empowerment.
URL:https://houseofpraiserichardson.org/event/church-sunday/2029-03-04/
LOCATION:Main Auditorium\, House of Praise\, 401 Bowser Road\, Richardson\, TX\, 75081\, United States
CATEGORIES:University
ATTACH;FMTTYPE=image/jpeg:https://houseofpraiserichardson.org/wp-content/uploads/2019/09/DSC_2535-scaled.jpg
ORGANIZER;CN="House of Praise":MAILTO:info@houseofpraiserichardson.org
END:VEVENT
BEGIN:VEVENT
DTSTART;TZID=America/New_York:20290311T100000
DTEND;TZID=America/New_York:20290311T113000
DTSTAMP:20260424T143739
CREATED:20190917T092646Z
LAST-MODIFIED:20241122T174830Z
UID:10000274-1867917600-1867923000@houseofpraiserichardson.org
SUMMARY:Sunday Service
DESCRIPTION:Join us on Sunday for a time of praise\, worship\, fellowship and empowerment.
URL:https://houseofpraiserichardson.org/event/church-sunday/2029-03-11/
LOCATION:Main Auditorium\, House of Praise\, 401 Bowser Road\, Richardson\, TX\, 75081\, United States
CATEGORIES:University
ATTACH;FMTTYPE=image/jpeg:https://houseofpraiserichardson.org/wp-content/uploads/2019/09/DSC_2535-scaled.jpg
ORGANIZER;CN="House of Praise":MAILTO:info@houseofpraiserichardson.org
END:VEVENT
BEGIN:VEVENT
DTSTART;TZID=America/New_York:20290318T100000
DTEND;TZID=America/New_York:20290318T113000
DTSTAMP:20260424T143739
CREATED:20190917T092646Z
LAST-MODIFIED:20241122T174830Z
UID:10000275-1868522400-1868527800@houseofpraiserichardson.org
SUMMARY:Sunday Service
DESCRIPTION:Join us on Sunday for a time of praise\, worship\, fellowship and empowerment.
URL:https://houseofpraiserichardson.org/event/church-sunday/2029-03-18/
LOCATION:Main Auditorium\, House of Praise\, 401 Bowser Road\, Richardson\, TX\, 75081\, United States
CATEGORIES:University
ATTACH;FMTTYPE=image/jpeg:https://houseofpraiserichardson.org/wp-content/uploads/2019/09/DSC_2535-scaled.jpg
ORGANIZER;CN="House of Praise":MAILTO:info@houseofpraiserichardson.org
END:VEVENT
BEGIN:VEVENT
DTSTART;TZID=America/New_York:20290325T100000
DTEND;TZID=America/New_York:20290325T113000
DTSTAMP:20260424T143739
CREATED:20190917T092646Z
LAST-MODIFIED:20241122T174830Z
UID:10000276-1869127200-1869132600@houseofpraiserichardson.org
SUMMARY:Sunday Service
DESCRIPTION:Join us on Sunday for a time of praise\, worship\, fellowship and empowerment.
URL:https://houseofpraiserichardson.org/event/church-sunday/2029-03-25/
LOCATION:Main Auditorium\, House of Praise\, 401 Bowser Road\, Richardson\, TX\, 75081\, United States
CATEGORIES:University
ATTACH;FMTTYPE=image/jpeg:https://houseofpraiserichardson.org/wp-content/uploads/2019/09/DSC_2535-scaled.jpg
ORGANIZER;CN="House of Praise":MAILTO:info@houseofpraiserichardson.org
END:VEVENT
BEGIN:VEVENT
DTSTART;TZID=America/New_York:20290401T100000
DTEND;TZID=America/New_York:20290401T113000
DTSTAMP:20260424T143739
CREATED:20190917T092646Z
LAST-MODIFIED:20241122T174830Z
UID:10000277-1869732000-1869737400@houseofpraiserichardson.org
SUMMARY:Sunday Service
DESCRIPTION:Join us on Sunday for a time of praise\, worship\, fellowship and empowerment.
URL:https://houseofpraiserichardson.org/event/church-sunday/2029-04-01/
LOCATION:Main Auditorium\, House of Praise\, 401 Bowser Road\, Richardson\, TX\, 75081\, United States
CATEGORIES:University
ATTACH;FMTTYPE=image/jpeg:https://houseofpraiserichardson.org/wp-content/uploads/2019/09/DSC_2535-scaled.jpg
ORGANIZER;CN="House of Praise":MAILTO:info@houseofpraiserichardson.org
END:VEVENT
BEGIN:VEVENT
DTSTART;TZID=America/New_York:20290408T100000
DTEND;TZID=America/New_York:20290408T113000
DTSTAMP:20260424T143739
CREATED:20190917T092646Z
LAST-MODIFIED:20241122T174830Z
UID:10000278-1870336800-1870342200@houseofpraiserichardson.org
SUMMARY:Sunday Service
DESCRIPTION:Join us on Sunday for a time of praise\, worship\, fellowship and empowerment.
URL:https://houseofpraiserichardson.org/event/church-sunday/2029-04-08/
LOCATION:Main Auditorium\, House of Praise\, 401 Bowser Road\, Richardson\, TX\, 75081\, United States
CATEGORIES:University
ATTACH;FMTTYPE=image/jpeg:https://houseofpraiserichardson.org/wp-content/uploads/2019/09/DSC_2535-scaled.jpg
ORGANIZER;CN="House of Praise":MAILTO:info@houseofpraiserichardson.org
END:VEVENT
BEGIN:VEVENT
DTSTART;TZID=America/New_York:20290415T100000
DTEND;TZID=America/New_York:20290415T113000
DTSTAMP:20260424T143739
CREATED:20190917T092646Z
LAST-MODIFIED:20241122T174830Z
UID:10000279-1870941600-1870947000@houseofpraiserichardson.org
SUMMARY:Sunday Service
DESCRIPTION:Join us on Sunday for a time of praise\, worship\, fellowship and empowerment.
URL:https://houseofpraiserichardson.org/event/church-sunday/2029-04-15/
LOCATION:Main Auditorium\, House of Praise\, 401 Bowser Road\, Richardson\, TX\, 75081\, United States
CATEGORIES:University
ATTACH;FMTTYPE=image/jpeg:https://houseofpraiserichardson.org/wp-content/uploads/2019/09/DSC_2535-scaled.jpg
ORGANIZER;CN="House of Praise":MAILTO:info@houseofpraiserichardson.org
END:VEVENT
BEGIN:VEVENT
DTSTART;TZID=America/New_York:20290422T100000
DTEND;TZID=America/New_York:20290422T113000
DTSTAMP:20260424T143739
CREATED:20190917T092646Z
LAST-MODIFIED:20241122T174830Z
UID:10000280-1871546400-1871551800@houseofpraiserichardson.org
SUMMARY:Sunday Service
DESCRIPTION:Join us on Sunday for a time of praise\, worship\, fellowship and empowerment.
URL:https://houseofpraiserichardson.org/event/church-sunday/2029-04-22/
LOCATION:Main Auditorium\, House of Praise\, 401 Bowser Road\, Richardson\, TX\, 75081\, United States
CATEGORIES:University
ATTACH;FMTTYPE=image/jpeg:https://houseofpraiserichardson.org/wp-content/uploads/2019/09/DSC_2535-scaled.jpg
ORGANIZER;CN="House of Praise":MAILTO:info@houseofpraiserichardson.org
END:VEVENT
BEGIN:VEVENT
DTSTART;TZID=America/New_York:20290429T100000
DTEND;TZID=America/New_York:20290429T113000
DTSTAMP:20260424T143739
CREATED:20190917T092646Z
LAST-MODIFIED:20241122T174830Z
UID:10000281-1872151200-1872156600@houseofpraiserichardson.org
SUMMARY:Sunday Service
DESCRIPTION:Join us on Sunday for a time of praise\, worship\, fellowship and empowerment.
URL:https://houseofpraiserichardson.org/event/church-sunday/2029-04-29/
LOCATION:Main Auditorium\, House of Praise\, 401 Bowser Road\, Richardson\, TX\, 75081\, United States
CATEGORIES:University
ATTACH;FMTTYPE=image/jpeg:https://houseofpraiserichardson.org/wp-content/uploads/2019/09/DSC_2535-scaled.jpg
ORGANIZER;CN="House of Praise":MAILTO:info@houseofpraiserichardson.org
END:VEVENT
BEGIN:VEVENT
DTSTART;TZID=America/New_York:20290506T100000
DTEND;TZID=America/New_York:20290506T113000
DTSTAMP:20260424T143739
CREATED:20190917T092646Z
LAST-MODIFIED:20241122T174830Z
UID:10000282-1872756000-1872761400@houseofpraiserichardson.org
SUMMARY:Sunday Service
DESCRIPTION:Join us on Sunday for a time of praise\, worship\, fellowship and empowerment.
URL:https://houseofpraiserichardson.org/event/church-sunday/2029-05-06/
LOCATION:Main Auditorium\, House of Praise\, 401 Bowser Road\, Richardson\, TX\, 75081\, United States
CATEGORIES:University
ATTACH;FMTTYPE=image/jpeg:https://houseofpraiserichardson.org/wp-content/uploads/2019/09/DSC_2535-scaled.jpg
ORGANIZER;CN="House of Praise":MAILTO:info@houseofpraiserichardson.org
END:VEVENT
BEGIN:VEVENT
DTSTART;TZID=America/New_York:20290513T100000
DTEND;TZID=America/New_York:20290513T113000
DTSTAMP:20260424T143739
CREATED:20190917T092646Z
LAST-MODIFIED:20241122T174830Z
UID:10000283-1873360800-1873366200@houseofpraiserichardson.org
SUMMARY:Sunday Service
DESCRIPTION:Join us on Sunday for a time of praise\, worship\, fellowship and empowerment.
URL:https://houseofpraiserichardson.org/event/church-sunday/2029-05-13/
LOCATION:Main Auditorium\, House of Praise\, 401 Bowser Road\, Richardson\, TX\, 75081\, United States
CATEGORIES:University
ATTACH;FMTTYPE=image/jpeg:https://houseofpraiserichardson.org/wp-content/uploads/2019/09/DSC_2535-scaled.jpg
ORGANIZER;CN="House of Praise":MAILTO:info@houseofpraiserichardson.org
END:VEVENT
BEGIN:VEVENT
DTSTART;TZID=America/New_York:20290520T100000
DTEND;TZID=America/New_York:20290520T113000
DTSTAMP:20260424T143739
CREATED:20190917T092646Z
LAST-MODIFIED:20241122T174830Z
UID:10000284-1873965600-1873971000@houseofpraiserichardson.org
SUMMARY:Sunday Service
DESCRIPTION:Join us on Sunday for a time of praise\, worship\, fellowship and empowerment.
URL:https://houseofpraiserichardson.org/event/church-sunday/2029-05-20/
LOCATION:Main Auditorium\, House of Praise\, 401 Bowser Road\, Richardson\, TX\, 75081\, United States
CATEGORIES:University
ATTACH;FMTTYPE=image/jpeg:https://houseofpraiserichardson.org/wp-content/uploads/2019/09/DSC_2535-scaled.jpg
ORGANIZER;CN="House of Praise":MAILTO:info@houseofpraiserichardson.org
END:VEVENT
BEGIN:VEVENT
DTSTART;TZID=America/New_York:20290527T100000
DTEND;TZID=America/New_York:20290527T113000
DTSTAMP:20260424T143739
CREATED:20190917T092646Z
LAST-MODIFIED:20241122T174830Z
UID:10000285-1874570400-1874575800@houseofpraiserichardson.org
SUMMARY:Sunday Service
DESCRIPTION:Join us on Sunday for a time of praise\, worship\, fellowship and empowerment.
URL:https://houseofpraiserichardson.org/event/church-sunday/2029-05-27/
LOCATION:Main Auditorium\, House of Praise\, 401 Bowser Road\, Richardson\, TX\, 75081\, United States
CATEGORIES:University
ATTACH;FMTTYPE=image/jpeg:https://houseofpraiserichardson.org/wp-content/uploads/2019/09/DSC_2535-scaled.jpg
ORGANIZER;CN="House of Praise":MAILTO:info@houseofpraiserichardson.org
END:VEVENT
END:VCALENDAR