BEGIN:VCALENDAR
VERSION:2.0
PRODID:-//RCCG House of Praise, Dallas - ECPv6.8.2.1//NONSGML v1.0//EN
CALSCALE:GREGORIAN
METHOD:PUBLISH
X-ORIGINAL-URL:https://houseofpraiserichardson.org
X-WR-CALDESC:Events for RCCG House of Praise, Dallas
REFRESH-INTERVAL;VALUE=DURATION:PT1H
X-Robots-Tag:noindex
X-PUBLISHED-TTL:PT1H
BEGIN:VTIMEZONE
TZID:America/New_York
BEGIN:DAYLIGHT
TZOFFSETFROM:-0500
TZOFFSETTO:-0400
TZNAME:EDT
DTSTART:20260308T070000
END:DAYLIGHT
BEGIN:STANDARD
TZOFFSETFROM:-0400
TZOFFSETTO:-0500
TZNAME:EST
DTSTART:20261101T060000
END:STANDARD
BEGIN:DAYLIGHT
TZOFFSETFROM:-0500
TZOFFSETTO:-0400
TZNAME:EDT
DTSTART:20270314T070000
END:DAYLIGHT
BEGIN:STANDARD
TZOFFSETFROM:-0400
TZOFFSETTO:-0500
TZNAME:EST
DTSTART:20271107T060000
END:STANDARD
END:VTIMEZONE
BEGIN:VEVENT
DTSTART;TZID=America/New_York:20261230T190000
DTEND;TZID=America/New_York:20261230T203000
DTSTAMP:20260420T110158
CREATED:20190917T092801Z
LAST-MODIFIED:20241122T174948Z
UID:10000680-1798657200-1798662600@houseofpraiserichardson.org
SUMMARY:Working Word & Communion Service
DESCRIPTION:Join us this Wednesday for a refreshing time in God’s infallable Word and Communion Service.
URL:https://houseofpraiserichardson.org/event/communion/2026-12-30/
LOCATION:Main Auditorium\, House of Praise\, 401 Bowser Road\, Richardson\, TX\, 75081\, United States
CATEGORIES:University
ATTACH;FMTTYPE=image/jpeg:https://houseofpraiserichardson.org/wp-content/uploads/2019/09/house-of-praise-working-word.jpeg
ORGANIZER;CN="House of Praise":MAILTO:info@houseofpraiserichardson.org
END:VEVENT
BEGIN:VEVENT
DTSTART;TZID=America/New_York:20270106T190000
DTEND;TZID=America/New_York:20270106T203000
DTSTAMP:20260420T110158
CREATED:20190917T092801Z
LAST-MODIFIED:20241122T174948Z
UID:10000681-1799262000-1799267400@houseofpraiserichardson.org
SUMMARY:Working Word & Communion Service
DESCRIPTION:Join us this Wednesday for a refreshing time in God’s infallable Word and Communion Service.
URL:https://houseofpraiserichardson.org/event/communion/2027-01-06/
LOCATION:Main Auditorium\, House of Praise\, 401 Bowser Road\, Richardson\, TX\, 75081\, United States
CATEGORIES:University
ATTACH;FMTTYPE=image/jpeg:https://houseofpraiserichardson.org/wp-content/uploads/2019/09/house-of-praise-working-word.jpeg
ORGANIZER;CN="House of Praise":MAILTO:info@houseofpraiserichardson.org
END:VEVENT
BEGIN:VEVENT
DTSTART;TZID=America/New_York:20270113T190000
DTEND;TZID=America/New_York:20270113T203000
DTSTAMP:20260420T110158
CREATED:20190917T092801Z
LAST-MODIFIED:20241122T174948Z
UID:10000682-1799866800-1799872200@houseofpraiserichardson.org
SUMMARY:Working Word & Communion Service
DESCRIPTION:Join us this Wednesday for a refreshing time in God’s infallable Word and Communion Service.
URL:https://houseofpraiserichardson.org/event/communion/2027-01-13/
LOCATION:Main Auditorium\, House of Praise\, 401 Bowser Road\, Richardson\, TX\, 75081\, United States
CATEGORIES:University
ATTACH;FMTTYPE=image/jpeg:https://houseofpraiserichardson.org/wp-content/uploads/2019/09/house-of-praise-working-word.jpeg
ORGANIZER;CN="House of Praise":MAILTO:info@houseofpraiserichardson.org
END:VEVENT
BEGIN:VEVENT
DTSTART;TZID=America/New_York:20270120T190000
DTEND;TZID=America/New_York:20270120T203000
DTSTAMP:20260420T110158
CREATED:20190917T092801Z
LAST-MODIFIED:20241122T174948Z
UID:10000683-1800471600-1800477000@houseofpraiserichardson.org
SUMMARY:Working Word & Communion Service
DESCRIPTION:Join us this Wednesday for a refreshing time in God’s infallable Word and Communion Service.
URL:https://houseofpraiserichardson.org/event/communion/2027-01-20/
LOCATION:Main Auditorium\, House of Praise\, 401 Bowser Road\, Richardson\, TX\, 75081\, United States
CATEGORIES:University
ATTACH;FMTTYPE=image/jpeg:https://houseofpraiserichardson.org/wp-content/uploads/2019/09/house-of-praise-working-word.jpeg
ORGANIZER;CN="House of Praise":MAILTO:info@houseofpraiserichardson.org
END:VEVENT
BEGIN:VEVENT
DTSTART;TZID=America/New_York:20270127T190000
DTEND;TZID=America/New_York:20270127T203000
DTSTAMP:20260420T110158
CREATED:20190917T092801Z
LAST-MODIFIED:20241122T174948Z
UID:10000684-1801076400-1801081800@houseofpraiserichardson.org
SUMMARY:Working Word & Communion Service
DESCRIPTION:Join us this Wednesday for a refreshing time in God’s infallable Word and Communion Service.
URL:https://houseofpraiserichardson.org/event/communion/2027-01-27/
LOCATION:Main Auditorium\, House of Praise\, 401 Bowser Road\, Richardson\, TX\, 75081\, United States
CATEGORIES:University
ATTACH;FMTTYPE=image/jpeg:https://houseofpraiserichardson.org/wp-content/uploads/2019/09/house-of-praise-working-word.jpeg
ORGANIZER;CN="House of Praise":MAILTO:info@houseofpraiserichardson.org
END:VEVENT
BEGIN:VEVENT
DTSTART;TZID=America/New_York:20270203T190000
DTEND;TZID=America/New_York:20270203T203000
DTSTAMP:20260420T110158
CREATED:20190917T092801Z
LAST-MODIFIED:20241122T174948Z
UID:10000685-1801681200-1801686600@houseofpraiserichardson.org
SUMMARY:Working Word & Communion Service
DESCRIPTION:Join us this Wednesday for a refreshing time in God’s infallable Word and Communion Service.
URL:https://houseofpraiserichardson.org/event/communion/2027-02-03/
LOCATION:Main Auditorium\, House of Praise\, 401 Bowser Road\, Richardson\, TX\, 75081\, United States
CATEGORIES:University
ATTACH;FMTTYPE=image/jpeg:https://houseofpraiserichardson.org/wp-content/uploads/2019/09/house-of-praise-working-word.jpeg
ORGANIZER;CN="House of Praise":MAILTO:info@houseofpraiserichardson.org
END:VEVENT
BEGIN:VEVENT
DTSTART;TZID=America/New_York:20270210T190000
DTEND;TZID=America/New_York:20270210T203000
DTSTAMP:20260420T110158
CREATED:20190917T092801Z
LAST-MODIFIED:20241122T174948Z
UID:10000686-1802286000-1802291400@houseofpraiserichardson.org
SUMMARY:Working Word & Communion Service
DESCRIPTION:Join us this Wednesday for a refreshing time in God’s infallable Word and Communion Service.
URL:https://houseofpraiserichardson.org/event/communion/2027-02-10/
LOCATION:Main Auditorium\, House of Praise\, 401 Bowser Road\, Richardson\, TX\, 75081\, United States
CATEGORIES:University
ATTACH;FMTTYPE=image/jpeg:https://houseofpraiserichardson.org/wp-content/uploads/2019/09/house-of-praise-working-word.jpeg
ORGANIZER;CN="House of Praise":MAILTO:info@houseofpraiserichardson.org
END:VEVENT
BEGIN:VEVENT
DTSTART;TZID=America/New_York:20270217T190000
DTEND;TZID=America/New_York:20270217T203000
DTSTAMP:20260420T110158
CREATED:20190917T092801Z
LAST-MODIFIED:20241122T174948Z
UID:10000687-1802890800-1802896200@houseofpraiserichardson.org
SUMMARY:Working Word & Communion Service
DESCRIPTION:Join us this Wednesday for a refreshing time in God’s infallable Word and Communion Service.
URL:https://houseofpraiserichardson.org/event/communion/2027-02-17/
LOCATION:Main Auditorium\, House of Praise\, 401 Bowser Road\, Richardson\, TX\, 75081\, United States
CATEGORIES:University
ATTACH;FMTTYPE=image/jpeg:https://houseofpraiserichardson.org/wp-content/uploads/2019/09/house-of-praise-working-word.jpeg
ORGANIZER;CN="House of Praise":MAILTO:info@houseofpraiserichardson.org
END:VEVENT
BEGIN:VEVENT
DTSTART;TZID=America/New_York:20270224T190000
DTEND;TZID=America/New_York:20270224T203000
DTSTAMP:20260420T110158
CREATED:20190917T092801Z
LAST-MODIFIED:20241122T174948Z
UID:10000688-1803495600-1803501000@houseofpraiserichardson.org
SUMMARY:Working Word & Communion Service
DESCRIPTION:Join us this Wednesday for a refreshing time in God’s infallable Word and Communion Service.
URL:https://houseofpraiserichardson.org/event/communion/2027-02-24/
LOCATION:Main Auditorium\, House of Praise\, 401 Bowser Road\, Richardson\, TX\, 75081\, United States
CATEGORIES:University
ATTACH;FMTTYPE=image/jpeg:https://houseofpraiserichardson.org/wp-content/uploads/2019/09/house-of-praise-working-word.jpeg
ORGANIZER;CN="House of Praise":MAILTO:info@houseofpraiserichardson.org
END:VEVENT
BEGIN:VEVENT
DTSTART;TZID=America/New_York:20270303T190000
DTEND;TZID=America/New_York:20270303T203000
DTSTAMP:20260420T110158
CREATED:20190917T092801Z
LAST-MODIFIED:20241122T174948Z
UID:10000689-1804100400-1804105800@houseofpraiserichardson.org
SUMMARY:Working Word & Communion Service
DESCRIPTION:Join us this Wednesday for a refreshing time in God’s infallable Word and Communion Service.
URL:https://houseofpraiserichardson.org/event/communion/2027-03-03/
LOCATION:Main Auditorium\, House of Praise\, 401 Bowser Road\, Richardson\, TX\, 75081\, United States
CATEGORIES:University
ATTACH;FMTTYPE=image/jpeg:https://houseofpraiserichardson.org/wp-content/uploads/2019/09/house-of-praise-working-word.jpeg
ORGANIZER;CN="House of Praise":MAILTO:info@houseofpraiserichardson.org
END:VEVENT
BEGIN:VEVENT
DTSTART;TZID=America/New_York:20270310T190000
DTEND;TZID=America/New_York:20270310T203000
DTSTAMP:20260420T110158
CREATED:20190917T092801Z
LAST-MODIFIED:20241122T174948Z
UID:10000690-1804705200-1804710600@houseofpraiserichardson.org
SUMMARY:Working Word & Communion Service
DESCRIPTION:Join us this Wednesday for a refreshing time in God’s infallable Word and Communion Service.
URL:https://houseofpraiserichardson.org/event/communion/2027-03-10/
LOCATION:Main Auditorium\, House of Praise\, 401 Bowser Road\, Richardson\, TX\, 75081\, United States
CATEGORIES:University
ATTACH;FMTTYPE=image/jpeg:https://houseofpraiserichardson.org/wp-content/uploads/2019/09/house-of-praise-working-word.jpeg
ORGANIZER;CN="House of Praise":MAILTO:info@houseofpraiserichardson.org
END:VEVENT
BEGIN:VEVENT
DTSTART;TZID=America/New_York:20270317T190000
DTEND;TZID=America/New_York:20270317T203000
DTSTAMP:20260420T110158
CREATED:20190917T092801Z
LAST-MODIFIED:20241122T174948Z
UID:10000691-1805310000-1805315400@houseofpraiserichardson.org
SUMMARY:Working Word & Communion Service
DESCRIPTION:Join us this Wednesday for a refreshing time in God’s infallable Word and Communion Service.
URL:https://houseofpraiserichardson.org/event/communion/2027-03-17/
LOCATION:Main Auditorium\, House of Praise\, 401 Bowser Road\, Richardson\, TX\, 75081\, United States
CATEGORIES:University
ATTACH;FMTTYPE=image/jpeg:https://houseofpraiserichardson.org/wp-content/uploads/2019/09/house-of-praise-working-word.jpeg
ORGANIZER;CN="House of Praise":MAILTO:info@houseofpraiserichardson.org
END:VEVENT
BEGIN:VEVENT
DTSTART;TZID=America/New_York:20270324T190000
DTEND;TZID=America/New_York:20270324T203000
DTSTAMP:20260420T110158
CREATED:20190917T092801Z
LAST-MODIFIED:20241122T174948Z
UID:10000692-1805914800-1805920200@houseofpraiserichardson.org
SUMMARY:Working Word & Communion Service
DESCRIPTION:Join us this Wednesday for a refreshing time in God’s infallable Word and Communion Service.
URL:https://houseofpraiserichardson.org/event/communion/2027-03-24/
LOCATION:Main Auditorium\, House of Praise\, 401 Bowser Road\, Richardson\, TX\, 75081\, United States
CATEGORIES:University
ATTACH;FMTTYPE=image/jpeg:https://houseofpraiserichardson.org/wp-content/uploads/2019/09/house-of-praise-working-word.jpeg
ORGANIZER;CN="House of Praise":MAILTO:info@houseofpraiserichardson.org
END:VEVENT
BEGIN:VEVENT
DTSTART;TZID=America/New_York:20270331T190000
DTEND;TZID=America/New_York:20270331T203000
DTSTAMP:20260420T110158
CREATED:20190917T092801Z
LAST-MODIFIED:20241122T174948Z
UID:10000693-1806519600-1806525000@houseofpraiserichardson.org
SUMMARY:Working Word & Communion Service
DESCRIPTION:Join us this Wednesday for a refreshing time in God’s infallable Word and Communion Service.
URL:https://houseofpraiserichardson.org/event/communion/2027-03-31/
LOCATION:Main Auditorium\, House of Praise\, 401 Bowser Road\, Richardson\, TX\, 75081\, United States
CATEGORIES:University
ATTACH;FMTTYPE=image/jpeg:https://houseofpraiserichardson.org/wp-content/uploads/2019/09/house-of-praise-working-word.jpeg
ORGANIZER;CN="House of Praise":MAILTO:info@houseofpraiserichardson.org
END:VEVENT
BEGIN:VEVENT
DTSTART;TZID=America/New_York:20270407T190000
DTEND;TZID=America/New_York:20270407T203000
DTSTAMP:20260420T110158
CREATED:20190917T092801Z
LAST-MODIFIED:20241122T174948Z
UID:10000694-1807124400-1807129800@houseofpraiserichardson.org
SUMMARY:Working Word & Communion Service
DESCRIPTION:Join us this Wednesday for a refreshing time in God’s infallable Word and Communion Service.
URL:https://houseofpraiserichardson.org/event/communion/2027-04-07/
LOCATION:Main Auditorium\, House of Praise\, 401 Bowser Road\, Richardson\, TX\, 75081\, United States
CATEGORIES:University
ATTACH;FMTTYPE=image/jpeg:https://houseofpraiserichardson.org/wp-content/uploads/2019/09/house-of-praise-working-word.jpeg
ORGANIZER;CN="House of Praise":MAILTO:info@houseofpraiserichardson.org
END:VEVENT
BEGIN:VEVENT
DTSTART;TZID=America/New_York:20270414T190000
DTEND;TZID=America/New_York:20270414T203000
DTSTAMP:20260420T110158
CREATED:20190917T092801Z
LAST-MODIFIED:20241122T174948Z
UID:10000695-1807729200-1807734600@houseofpraiserichardson.org
SUMMARY:Working Word & Communion Service
DESCRIPTION:Join us this Wednesday for a refreshing time in God’s infallable Word and Communion Service.
URL:https://houseofpraiserichardson.org/event/communion/2027-04-14/
LOCATION:Main Auditorium\, House of Praise\, 401 Bowser Road\, Richardson\, TX\, 75081\, United States
CATEGORIES:University
ATTACH;FMTTYPE=image/jpeg:https://houseofpraiserichardson.org/wp-content/uploads/2019/09/house-of-praise-working-word.jpeg
ORGANIZER;CN="House of Praise":MAILTO:info@houseofpraiserichardson.org
END:VEVENT
BEGIN:VEVENT
DTSTART;TZID=America/New_York:20270421T190000
DTEND;TZID=America/New_York:20270421T203000
DTSTAMP:20260420T110158
CREATED:20190917T092801Z
LAST-MODIFIED:20241122T174948Z
UID:10000696-1808334000-1808339400@houseofpraiserichardson.org
SUMMARY:Working Word & Communion Service
DESCRIPTION:Join us this Wednesday for a refreshing time in God’s infallable Word and Communion Service.
URL:https://houseofpraiserichardson.org/event/communion/2027-04-21/
LOCATION:Main Auditorium\, House of Praise\, 401 Bowser Road\, Richardson\, TX\, 75081\, United States
CATEGORIES:University
ATTACH;FMTTYPE=image/jpeg:https://houseofpraiserichardson.org/wp-content/uploads/2019/09/house-of-praise-working-word.jpeg
ORGANIZER;CN="House of Praise":MAILTO:info@houseofpraiserichardson.org
END:VEVENT
BEGIN:VEVENT
DTSTART;TZID=America/New_York:20270428T190000
DTEND;TZID=America/New_York:20270428T203000
DTSTAMP:20260420T110158
CREATED:20190917T092801Z
LAST-MODIFIED:20241122T174948Z
UID:10000697-1808938800-1808944200@houseofpraiserichardson.org
SUMMARY:Working Word & Communion Service
DESCRIPTION:Join us this Wednesday for a refreshing time in God’s infallable Word and Communion Service.
URL:https://houseofpraiserichardson.org/event/communion/2027-04-28/
LOCATION:Main Auditorium\, House of Praise\, 401 Bowser Road\, Richardson\, TX\, 75081\, United States
CATEGORIES:University
ATTACH;FMTTYPE=image/jpeg:https://houseofpraiserichardson.org/wp-content/uploads/2019/09/house-of-praise-working-word.jpeg
ORGANIZER;CN="House of Praise":MAILTO:info@houseofpraiserichardson.org
END:VEVENT
BEGIN:VEVENT
DTSTART;TZID=America/New_York:20270505T190000
DTEND;TZID=America/New_York:20270505T203000
DTSTAMP:20260420T110158
CREATED:20190917T092801Z
LAST-MODIFIED:20241122T174948Z
UID:10000698-1809543600-1809549000@houseofpraiserichardson.org
SUMMARY:Working Word & Communion Service
DESCRIPTION:Join us this Wednesday for a refreshing time in God’s infallable Word and Communion Service.
URL:https://houseofpraiserichardson.org/event/communion/2027-05-05/
LOCATION:Main Auditorium\, House of Praise\, 401 Bowser Road\, Richardson\, TX\, 75081\, United States
CATEGORIES:University
ATTACH;FMTTYPE=image/jpeg:https://houseofpraiserichardson.org/wp-content/uploads/2019/09/house-of-praise-working-word.jpeg
ORGANIZER;CN="House of Praise":MAILTO:info@houseofpraiserichardson.org
END:VEVENT
BEGIN:VEVENT
DTSTART;TZID=America/New_York:20270512T190000
DTEND;TZID=America/New_York:20270512T203000
DTSTAMP:20260420T110158
CREATED:20190917T092801Z
LAST-MODIFIED:20241122T174948Z
UID:10000699-1810148400-1810153800@houseofpraiserichardson.org
SUMMARY:Working Word & Communion Service
DESCRIPTION:Join us this Wednesday for a refreshing time in God’s infallable Word and Communion Service.
URL:https://houseofpraiserichardson.org/event/communion/2027-05-12/
LOCATION:Main Auditorium\, House of Praise\, 401 Bowser Road\, Richardson\, TX\, 75081\, United States
CATEGORIES:University
ATTACH;FMTTYPE=image/jpeg:https://houseofpraiserichardson.org/wp-content/uploads/2019/09/house-of-praise-working-word.jpeg
ORGANIZER;CN="House of Praise":MAILTO:info@houseofpraiserichardson.org
END:VEVENT
BEGIN:VEVENT
DTSTART;TZID=America/New_York:20270519T190000
DTEND;TZID=America/New_York:20270519T203000
DTSTAMP:20260420T110158
CREATED:20190917T092801Z
LAST-MODIFIED:20241122T174948Z
UID:10000700-1810753200-1810758600@houseofpraiserichardson.org
SUMMARY:Working Word & Communion Service
DESCRIPTION:Join us this Wednesday for a refreshing time in God’s infallable Word and Communion Service.
URL:https://houseofpraiserichardson.org/event/communion/2027-05-19/
LOCATION:Main Auditorium\, House of Praise\, 401 Bowser Road\, Richardson\, TX\, 75081\, United States
CATEGORIES:University
ATTACH;FMTTYPE=image/jpeg:https://houseofpraiserichardson.org/wp-content/uploads/2019/09/house-of-praise-working-word.jpeg
ORGANIZER;CN="House of Praise":MAILTO:info@houseofpraiserichardson.org
END:VEVENT
BEGIN:VEVENT
DTSTART;TZID=America/New_York:20270526T190000
DTEND;TZID=America/New_York:20270526T203000
DTSTAMP:20260420T110158
CREATED:20190917T092801Z
LAST-MODIFIED:20241122T174948Z
UID:10000701-1811358000-1811363400@houseofpraiserichardson.org
SUMMARY:Working Word & Communion Service
DESCRIPTION:Join us this Wednesday for a refreshing time in God’s infallable Word and Communion Service.
URL:https://houseofpraiserichardson.org/event/communion/2027-05-26/
LOCATION:Main Auditorium\, House of Praise\, 401 Bowser Road\, Richardson\, TX\, 75081\, United States
CATEGORIES:University
ATTACH;FMTTYPE=image/jpeg:https://houseofpraiserichardson.org/wp-content/uploads/2019/09/house-of-praise-working-word.jpeg
ORGANIZER;CN="House of Praise":MAILTO:info@houseofpraiserichardson.org
END:VEVENT
BEGIN:VEVENT
DTSTART;TZID=America/New_York:20270602T190000
DTEND;TZID=America/New_York:20270602T203000
DTSTAMP:20260420T110158
CREATED:20190917T092801Z
LAST-MODIFIED:20241122T174948Z
UID:10000702-1811962800-1811968200@houseofpraiserichardson.org
SUMMARY:Working Word & Communion Service
DESCRIPTION:Join us this Wednesday for a refreshing time in God’s infallable Word and Communion Service.
URL:https://houseofpraiserichardson.org/event/communion/2027-06-02/
LOCATION:Main Auditorium\, House of Praise\, 401 Bowser Road\, Richardson\, TX\, 75081\, United States
CATEGORIES:University
ATTACH;FMTTYPE=image/jpeg:https://houseofpraiserichardson.org/wp-content/uploads/2019/09/house-of-praise-working-word.jpeg
ORGANIZER;CN="House of Praise":MAILTO:info@houseofpraiserichardson.org
END:VEVENT
BEGIN:VEVENT
DTSTART;TZID=America/New_York:20270609T190000
DTEND;TZID=America/New_York:20270609T203000
DTSTAMP:20260420T110158
CREATED:20190917T092801Z
LAST-MODIFIED:20241122T174948Z
UID:10000703-1812567600-1812573000@houseofpraiserichardson.org
SUMMARY:Working Word & Communion Service
DESCRIPTION:Join us this Wednesday for a refreshing time in God’s infallable Word and Communion Service.
URL:https://houseofpraiserichardson.org/event/communion/2027-06-09/
LOCATION:Main Auditorium\, House of Praise\, 401 Bowser Road\, Richardson\, TX\, 75081\, United States
CATEGORIES:University
ATTACH;FMTTYPE=image/jpeg:https://houseofpraiserichardson.org/wp-content/uploads/2019/09/house-of-praise-working-word.jpeg
ORGANIZER;CN="House of Praise":MAILTO:info@houseofpraiserichardson.org
END:VEVENT
BEGIN:VEVENT
DTSTART;TZID=America/New_York:20270616T190000
DTEND;TZID=America/New_York:20270616T203000
DTSTAMP:20260420T110158
CREATED:20190917T092801Z
LAST-MODIFIED:20241122T174948Z
UID:10000704-1813172400-1813177800@houseofpraiserichardson.org
SUMMARY:Working Word & Communion Service
DESCRIPTION:Join us this Wednesday for a refreshing time in God’s infallable Word and Communion Service.
URL:https://houseofpraiserichardson.org/event/communion/2027-06-16/
LOCATION:Main Auditorium\, House of Praise\, 401 Bowser Road\, Richardson\, TX\, 75081\, United States
CATEGORIES:University
ATTACH;FMTTYPE=image/jpeg:https://houseofpraiserichardson.org/wp-content/uploads/2019/09/house-of-praise-working-word.jpeg
ORGANIZER;CN="House of Praise":MAILTO:info@houseofpraiserichardson.org
END:VEVENT
BEGIN:VEVENT
DTSTART;TZID=America/New_York:20270623T190000
DTEND;TZID=America/New_York:20270623T203000
DTSTAMP:20260420T110158
CREATED:20190917T092801Z
LAST-MODIFIED:20241122T174948Z
UID:10000705-1813777200-1813782600@houseofpraiserichardson.org
SUMMARY:Working Word & Communion Service
DESCRIPTION:Join us this Wednesday for a refreshing time in God’s infallable Word and Communion Service.
URL:https://houseofpraiserichardson.org/event/communion/2027-06-23/
LOCATION:Main Auditorium\, House of Praise\, 401 Bowser Road\, Richardson\, TX\, 75081\, United States
CATEGORIES:University
ATTACH;FMTTYPE=image/jpeg:https://houseofpraiserichardson.org/wp-content/uploads/2019/09/house-of-praise-working-word.jpeg
ORGANIZER;CN="House of Praise":MAILTO:info@houseofpraiserichardson.org
END:VEVENT
BEGIN:VEVENT
DTSTART;TZID=America/New_York:20270630T190000
DTEND;TZID=America/New_York:20270630T203000
DTSTAMP:20260420T110158
CREATED:20190917T092801Z
LAST-MODIFIED:20241122T174948Z
UID:10000706-1814382000-1814387400@houseofpraiserichardson.org
SUMMARY:Working Word & Communion Service
DESCRIPTION:Join us this Wednesday for a refreshing time in God’s infallable Word and Communion Service.
URL:https://houseofpraiserichardson.org/event/communion/2027-06-30/
LOCATION:Main Auditorium\, House of Praise\, 401 Bowser Road\, Richardson\, TX\, 75081\, United States
CATEGORIES:University
ATTACH;FMTTYPE=image/jpeg:https://houseofpraiserichardson.org/wp-content/uploads/2019/09/house-of-praise-working-word.jpeg
ORGANIZER;CN="House of Praise":MAILTO:info@houseofpraiserichardson.org
END:VEVENT
BEGIN:VEVENT
DTSTART;TZID=America/New_York:20270707T190000
DTEND;TZID=America/New_York:20270707T203000
DTSTAMP:20260420T110158
CREATED:20190917T092801Z
LAST-MODIFIED:20241122T174948Z
UID:10000707-1814986800-1814992200@houseofpraiserichardson.org
SUMMARY:Working Word & Communion Service
DESCRIPTION:Join us this Wednesday for a refreshing time in God’s infallable Word and Communion Service.
URL:https://houseofpraiserichardson.org/event/communion/2027-07-07/
LOCATION:Main Auditorium\, House of Praise\, 401 Bowser Road\, Richardson\, TX\, 75081\, United States
CATEGORIES:University
ATTACH;FMTTYPE=image/jpeg:https://houseofpraiserichardson.org/wp-content/uploads/2019/09/house-of-praise-working-word.jpeg
ORGANIZER;CN="House of Praise":MAILTO:info@houseofpraiserichardson.org
END:VEVENT
BEGIN:VEVENT
DTSTART;TZID=America/New_York:20270714T190000
DTEND;TZID=America/New_York:20270714T203000
DTSTAMP:20260420T110158
CREATED:20190917T092801Z
LAST-MODIFIED:20241122T174948Z
UID:10000708-1815591600-1815597000@houseofpraiserichardson.org
SUMMARY:Working Word & Communion Service
DESCRIPTION:Join us this Wednesday for a refreshing time in God’s infallable Word and Communion Service.
URL:https://houseofpraiserichardson.org/event/communion/2027-07-14/
LOCATION:Main Auditorium\, House of Praise\, 401 Bowser Road\, Richardson\, TX\, 75081\, United States
CATEGORIES:University
ATTACH;FMTTYPE=image/jpeg:https://houseofpraiserichardson.org/wp-content/uploads/2019/09/house-of-praise-working-word.jpeg
ORGANIZER;CN="House of Praise":MAILTO:info@houseofpraiserichardson.org
END:VEVENT
BEGIN:VEVENT
DTSTART;TZID=America/New_York:20270721T190000
DTEND;TZID=America/New_York:20270721T203000
DTSTAMP:20260420T110158
CREATED:20190917T092801Z
LAST-MODIFIED:20241122T174948Z
UID:10000709-1816196400-1816201800@houseofpraiserichardson.org
SUMMARY:Working Word & Communion Service
DESCRIPTION:Join us this Wednesday for a refreshing time in God’s infallable Word and Communion Service.
URL:https://houseofpraiserichardson.org/event/communion/2027-07-21/
LOCATION:Main Auditorium\, House of Praise\, 401 Bowser Road\, Richardson\, TX\, 75081\, United States
CATEGORIES:University
ATTACH;FMTTYPE=image/jpeg:https://houseofpraiserichardson.org/wp-content/uploads/2019/09/house-of-praise-working-word.jpeg
ORGANIZER;CN="House of Praise":MAILTO:info@houseofpraiserichardson.org
END:VEVENT
END:VCALENDAR