BEGIN:VCALENDAR
VERSION:2.0
PRODID:-//RCCG House of Praise, Dallas - ECPv6.8.2.1//NONSGML v1.0//EN
CALSCALE:GREGORIAN
METHOD:PUBLISH
X-WR-CALNAME:RCCG House of Praise, Dallas
X-ORIGINAL-URL:https://houseofpraiserichardson.org
X-WR-CALDESC:Events for RCCG House of Praise, Dallas
REFRESH-INTERVAL;VALUE=DURATION:PT1H
X-Robots-Tag:noindex
X-PUBLISHED-TTL:PT1H
BEGIN:VTIMEZONE
TZID:America/New_York
BEGIN:DAYLIGHT
TZOFFSETFROM:-0500
TZOFFSETTO:-0400
TZNAME:EDT
DTSTART:20270314T070000
END:DAYLIGHT
BEGIN:STANDARD
TZOFFSETFROM:-0400
TZOFFSETTO:-0500
TZNAME:EST
DTSTART:20271107T060000
END:STANDARD
END:VTIMEZONE
BEGIN:VEVENT
DTSTART;TZID=America/New_York:20270328T100000
DTEND;TZID=America/New_York:20270328T113000
DTSTAMP:20260420T095116
CREATED:20190917T092646Z
LAST-MODIFIED:20241122T174830Z
UID:10000172-1806228000-1806233400@houseofpraiserichardson.org
SUMMARY:Sunday Service
DESCRIPTION:Join us on Sunday for a time of praise\, worship\, fellowship and empowerment.
URL:https://houseofpraiserichardson.org/event/church-sunday/2027-03-28/
LOCATION:Main Auditorium\, House of Praise\, 401 Bowser Road\, Richardson\, TX\, 75081\, United States
CATEGORIES:University
ATTACH;FMTTYPE=image/jpeg:https://houseofpraiserichardson.org/wp-content/uploads/2019/09/DSC_2535-scaled.jpg
ORGANIZER;CN="House of Praise":MAILTO:info@houseofpraiserichardson.org
END:VEVENT
BEGIN:VEVENT
DTSTART;TZID=America/New_York:20270404T100000
DTEND;TZID=America/New_York:20270404T113000
DTSTAMP:20260420T095116
CREATED:20190917T092646Z
LAST-MODIFIED:20241122T174830Z
UID:10000173-1806832800-1806838200@houseofpraiserichardson.org
SUMMARY:Sunday Service
DESCRIPTION:Join us on Sunday for a time of praise\, worship\, fellowship and empowerment.
URL:https://houseofpraiserichardson.org/event/church-sunday/2027-04-04/
LOCATION:Main Auditorium\, House of Praise\, 401 Bowser Road\, Richardson\, TX\, 75081\, United States
CATEGORIES:University
ATTACH;FMTTYPE=image/jpeg:https://houseofpraiserichardson.org/wp-content/uploads/2019/09/DSC_2535-scaled.jpg
ORGANIZER;CN="House of Praise":MAILTO:info@houseofpraiserichardson.org
END:VEVENT
BEGIN:VEVENT
DTSTART;TZID=America/New_York:20270411T100000
DTEND;TZID=America/New_York:20270411T113000
DTSTAMP:20260420T095116
CREATED:20190917T092646Z
LAST-MODIFIED:20241122T174830Z
UID:10000174-1807437600-1807443000@houseofpraiserichardson.org
SUMMARY:Sunday Service
DESCRIPTION:Join us on Sunday for a time of praise\, worship\, fellowship and empowerment.
URL:https://houseofpraiserichardson.org/event/church-sunday/2027-04-11/
LOCATION:Main Auditorium\, House of Praise\, 401 Bowser Road\, Richardson\, TX\, 75081\, United States
CATEGORIES:University
ATTACH;FMTTYPE=image/jpeg:https://houseofpraiserichardson.org/wp-content/uploads/2019/09/DSC_2535-scaled.jpg
ORGANIZER;CN="House of Praise":MAILTO:info@houseofpraiserichardson.org
END:VEVENT
BEGIN:VEVENT
DTSTART;TZID=America/New_York:20270418T100000
DTEND;TZID=America/New_York:20270418T113000
DTSTAMP:20260420T095116
CREATED:20190917T092646Z
LAST-MODIFIED:20241122T174830Z
UID:10000175-1808042400-1808047800@houseofpraiserichardson.org
SUMMARY:Sunday Service
DESCRIPTION:Join us on Sunday for a time of praise\, worship\, fellowship and empowerment.
URL:https://houseofpraiserichardson.org/event/church-sunday/2027-04-18/
LOCATION:Main Auditorium\, House of Praise\, 401 Bowser Road\, Richardson\, TX\, 75081\, United States
CATEGORIES:University
ATTACH;FMTTYPE=image/jpeg:https://houseofpraiserichardson.org/wp-content/uploads/2019/09/DSC_2535-scaled.jpg
ORGANIZER;CN="House of Praise":MAILTO:info@houseofpraiserichardson.org
END:VEVENT
BEGIN:VEVENT
DTSTART;TZID=America/New_York:20270425T100000
DTEND;TZID=America/New_York:20270425T113000
DTSTAMP:20260420T095116
CREATED:20190917T092646Z
LAST-MODIFIED:20241122T174830Z
UID:10000176-1808647200-1808652600@houseofpraiserichardson.org
SUMMARY:Sunday Service
DESCRIPTION:Join us on Sunday for a time of praise\, worship\, fellowship and empowerment.
URL:https://houseofpraiserichardson.org/event/church-sunday/2027-04-25/
LOCATION:Main Auditorium\, House of Praise\, 401 Bowser Road\, Richardson\, TX\, 75081\, United States
CATEGORIES:University
ATTACH;FMTTYPE=image/jpeg:https://houseofpraiserichardson.org/wp-content/uploads/2019/09/DSC_2535-scaled.jpg
ORGANIZER;CN="House of Praise":MAILTO:info@houseofpraiserichardson.org
END:VEVENT
BEGIN:VEVENT
DTSTART;TZID=America/New_York:20270502T100000
DTEND;TZID=America/New_York:20270502T113000
DTSTAMP:20260420T095116
CREATED:20190917T092646Z
LAST-MODIFIED:20241122T174830Z
UID:10000177-1809252000-1809257400@houseofpraiserichardson.org
SUMMARY:Sunday Service
DESCRIPTION:Join us on Sunday for a time of praise\, worship\, fellowship and empowerment.
URL:https://houseofpraiserichardson.org/event/church-sunday/2027-05-02/
LOCATION:Main Auditorium\, House of Praise\, 401 Bowser Road\, Richardson\, TX\, 75081\, United States
CATEGORIES:University
ATTACH;FMTTYPE=image/jpeg:https://houseofpraiserichardson.org/wp-content/uploads/2019/09/DSC_2535-scaled.jpg
ORGANIZER;CN="House of Praise":MAILTO:info@houseofpraiserichardson.org
END:VEVENT
BEGIN:VEVENT
DTSTART;TZID=America/New_York:20270509T100000
DTEND;TZID=America/New_York:20270509T113000
DTSTAMP:20260420T095116
CREATED:20190917T092646Z
LAST-MODIFIED:20241122T174830Z
UID:10000178-1809856800-1809862200@houseofpraiserichardson.org
SUMMARY:Sunday Service
DESCRIPTION:Join us on Sunday for a time of praise\, worship\, fellowship and empowerment.
URL:https://houseofpraiserichardson.org/event/church-sunday/2027-05-09/
LOCATION:Main Auditorium\, House of Praise\, 401 Bowser Road\, Richardson\, TX\, 75081\, United States
CATEGORIES:University
ATTACH;FMTTYPE=image/jpeg:https://houseofpraiserichardson.org/wp-content/uploads/2019/09/DSC_2535-scaled.jpg
ORGANIZER;CN="House of Praise":MAILTO:info@houseofpraiserichardson.org
END:VEVENT
BEGIN:VEVENT
DTSTART;TZID=America/New_York:20270516T100000
DTEND;TZID=America/New_York:20270516T113000
DTSTAMP:20260420T095116
CREATED:20190917T092646Z
LAST-MODIFIED:20241122T174830Z
UID:10000179-1810461600-1810467000@houseofpraiserichardson.org
SUMMARY:Sunday Service
DESCRIPTION:Join us on Sunday for a time of praise\, worship\, fellowship and empowerment.
URL:https://houseofpraiserichardson.org/event/church-sunday/2027-05-16/
LOCATION:Main Auditorium\, House of Praise\, 401 Bowser Road\, Richardson\, TX\, 75081\, United States
CATEGORIES:University
ATTACH;FMTTYPE=image/jpeg:https://houseofpraiserichardson.org/wp-content/uploads/2019/09/DSC_2535-scaled.jpg
ORGANIZER;CN="House of Praise":MAILTO:info@houseofpraiserichardson.org
END:VEVENT
BEGIN:VEVENT
DTSTART;TZID=America/New_York:20270523T100000
DTEND;TZID=America/New_York:20270523T113000
DTSTAMP:20260420T095116
CREATED:20190917T092646Z
LAST-MODIFIED:20241122T174830Z
UID:10000180-1811066400-1811071800@houseofpraiserichardson.org
SUMMARY:Sunday Service
DESCRIPTION:Join us on Sunday for a time of praise\, worship\, fellowship and empowerment.
URL:https://houseofpraiserichardson.org/event/church-sunday/2027-05-23/
LOCATION:Main Auditorium\, House of Praise\, 401 Bowser Road\, Richardson\, TX\, 75081\, United States
CATEGORIES:University
ATTACH;FMTTYPE=image/jpeg:https://houseofpraiserichardson.org/wp-content/uploads/2019/09/DSC_2535-scaled.jpg
ORGANIZER;CN="House of Praise":MAILTO:info@houseofpraiserichardson.org
END:VEVENT
BEGIN:VEVENT
DTSTART;TZID=America/New_York:20270530T100000
DTEND;TZID=America/New_York:20270530T113000
DTSTAMP:20260420T095116
CREATED:20190917T092646Z
LAST-MODIFIED:20241122T174830Z
UID:10000181-1811671200-1811676600@houseofpraiserichardson.org
SUMMARY:Sunday Service
DESCRIPTION:Join us on Sunday for a time of praise\, worship\, fellowship and empowerment.
URL:https://houseofpraiserichardson.org/event/church-sunday/2027-05-30/
LOCATION:Main Auditorium\, House of Praise\, 401 Bowser Road\, Richardson\, TX\, 75081\, United States
CATEGORIES:University
ATTACH;FMTTYPE=image/jpeg:https://houseofpraiserichardson.org/wp-content/uploads/2019/09/DSC_2535-scaled.jpg
ORGANIZER;CN="House of Praise":MAILTO:info@houseofpraiserichardson.org
END:VEVENT
BEGIN:VEVENT
DTSTART;TZID=America/New_York:20270606T100000
DTEND;TZID=America/New_York:20270606T113000
DTSTAMP:20260420T095116
CREATED:20190917T092646Z
LAST-MODIFIED:20241122T174830Z
UID:10000182-1812276000-1812281400@houseofpraiserichardson.org
SUMMARY:Sunday Service
DESCRIPTION:Join us on Sunday for a time of praise\, worship\, fellowship and empowerment.
URL:https://houseofpraiserichardson.org/event/church-sunday/2027-06-06/
LOCATION:Main Auditorium\, House of Praise\, 401 Bowser Road\, Richardson\, TX\, 75081\, United States
CATEGORIES:University
ATTACH;FMTTYPE=image/jpeg:https://houseofpraiserichardson.org/wp-content/uploads/2019/09/DSC_2535-scaled.jpg
ORGANIZER;CN="House of Praise":MAILTO:info@houseofpraiserichardson.org
END:VEVENT
BEGIN:VEVENT
DTSTART;TZID=America/New_York:20270613T100000
DTEND;TZID=America/New_York:20270613T113000
DTSTAMP:20260420T095116
CREATED:20190917T092646Z
LAST-MODIFIED:20241122T174830Z
UID:10000183-1812880800-1812886200@houseofpraiserichardson.org
SUMMARY:Sunday Service
DESCRIPTION:Join us on Sunday for a time of praise\, worship\, fellowship and empowerment.
URL:https://houseofpraiserichardson.org/event/church-sunday/2027-06-13/
LOCATION:Main Auditorium\, House of Praise\, 401 Bowser Road\, Richardson\, TX\, 75081\, United States
CATEGORIES:University
ATTACH;FMTTYPE=image/jpeg:https://houseofpraiserichardson.org/wp-content/uploads/2019/09/DSC_2535-scaled.jpg
ORGANIZER;CN="House of Praise":MAILTO:info@houseofpraiserichardson.org
END:VEVENT
BEGIN:VEVENT
DTSTART;TZID=America/New_York:20270620T100000
DTEND;TZID=America/New_York:20270620T113000
DTSTAMP:20260420T095116
CREATED:20190917T092646Z
LAST-MODIFIED:20241122T174830Z
UID:10000184-1813485600-1813491000@houseofpraiserichardson.org
SUMMARY:Sunday Service
DESCRIPTION:Join us on Sunday for a time of praise\, worship\, fellowship and empowerment.
URL:https://houseofpraiserichardson.org/event/church-sunday/2027-06-20/
LOCATION:Main Auditorium\, House of Praise\, 401 Bowser Road\, Richardson\, TX\, 75081\, United States
CATEGORIES:University
ATTACH;FMTTYPE=image/jpeg:https://houseofpraiserichardson.org/wp-content/uploads/2019/09/DSC_2535-scaled.jpg
ORGANIZER;CN="House of Praise":MAILTO:info@houseofpraiserichardson.org
END:VEVENT
BEGIN:VEVENT
DTSTART;TZID=America/New_York:20270627T100000
DTEND;TZID=America/New_York:20270627T113000
DTSTAMP:20260420T095116
CREATED:20190917T092646Z
LAST-MODIFIED:20241122T174830Z
UID:10000185-1814090400-1814095800@houseofpraiserichardson.org
SUMMARY:Sunday Service
DESCRIPTION:Join us on Sunday for a time of praise\, worship\, fellowship and empowerment.
URL:https://houseofpraiserichardson.org/event/church-sunday/2027-06-27/
LOCATION:Main Auditorium\, House of Praise\, 401 Bowser Road\, Richardson\, TX\, 75081\, United States
CATEGORIES:University
ATTACH;FMTTYPE=image/jpeg:https://houseofpraiserichardson.org/wp-content/uploads/2019/09/DSC_2535-scaled.jpg
ORGANIZER;CN="House of Praise":MAILTO:info@houseofpraiserichardson.org
END:VEVENT
BEGIN:VEVENT
DTSTART;TZID=America/New_York:20270704T100000
DTEND;TZID=America/New_York:20270704T113000
DTSTAMP:20260420T095116
CREATED:20190917T092646Z
LAST-MODIFIED:20241122T174830Z
UID:10000186-1814695200-1814700600@houseofpraiserichardson.org
SUMMARY:Sunday Service
DESCRIPTION:Join us on Sunday for a time of praise\, worship\, fellowship and empowerment.
URL:https://houseofpraiserichardson.org/event/church-sunday/2027-07-04/
LOCATION:Main Auditorium\, House of Praise\, 401 Bowser Road\, Richardson\, TX\, 75081\, United States
CATEGORIES:University
ATTACH;FMTTYPE=image/jpeg:https://houseofpraiserichardson.org/wp-content/uploads/2019/09/DSC_2535-scaled.jpg
ORGANIZER;CN="House of Praise":MAILTO:info@houseofpraiserichardson.org
END:VEVENT
BEGIN:VEVENT
DTSTART;TZID=America/New_York:20270711T100000
DTEND;TZID=America/New_York:20270711T113000
DTSTAMP:20260420T095116
CREATED:20190917T092646Z
LAST-MODIFIED:20241122T174830Z
UID:10000187-1815300000-1815305400@houseofpraiserichardson.org
SUMMARY:Sunday Service
DESCRIPTION:Join us on Sunday for a time of praise\, worship\, fellowship and empowerment.
URL:https://houseofpraiserichardson.org/event/church-sunday/2027-07-11/
LOCATION:Main Auditorium\, House of Praise\, 401 Bowser Road\, Richardson\, TX\, 75081\, United States
CATEGORIES:University
ATTACH;FMTTYPE=image/jpeg:https://houseofpraiserichardson.org/wp-content/uploads/2019/09/DSC_2535-scaled.jpg
ORGANIZER;CN="House of Praise":MAILTO:info@houseofpraiserichardson.org
END:VEVENT
BEGIN:VEVENT
DTSTART;TZID=America/New_York:20270718T100000
DTEND;TZID=America/New_York:20270718T113000
DTSTAMP:20260420T095116
CREATED:20190917T092646Z
LAST-MODIFIED:20241122T174830Z
UID:10000188-1815904800-1815910200@houseofpraiserichardson.org
SUMMARY:Sunday Service
DESCRIPTION:Join us on Sunday for a time of praise\, worship\, fellowship and empowerment.
URL:https://houseofpraiserichardson.org/event/church-sunday/2027-07-18/
LOCATION:Main Auditorium\, House of Praise\, 401 Bowser Road\, Richardson\, TX\, 75081\, United States
CATEGORIES:University
ATTACH;FMTTYPE=image/jpeg:https://houseofpraiserichardson.org/wp-content/uploads/2019/09/DSC_2535-scaled.jpg
ORGANIZER;CN="House of Praise":MAILTO:info@houseofpraiserichardson.org
END:VEVENT
BEGIN:VEVENT
DTSTART;TZID=America/New_York:20270725T100000
DTEND;TZID=America/New_York:20270725T113000
DTSTAMP:20260420T095116
CREATED:20190917T092646Z
LAST-MODIFIED:20241122T174830Z
UID:10000189-1816509600-1816515000@houseofpraiserichardson.org
SUMMARY:Sunday Service
DESCRIPTION:Join us on Sunday for a time of praise\, worship\, fellowship and empowerment.
URL:https://houseofpraiserichardson.org/event/church-sunday/2027-07-25/
LOCATION:Main Auditorium\, House of Praise\, 401 Bowser Road\, Richardson\, TX\, 75081\, United States
CATEGORIES:University
ATTACH;FMTTYPE=image/jpeg:https://houseofpraiserichardson.org/wp-content/uploads/2019/09/DSC_2535-scaled.jpg
ORGANIZER;CN="House of Praise":MAILTO:info@houseofpraiserichardson.org
END:VEVENT
BEGIN:VEVENT
DTSTART;TZID=America/New_York:20270801T100000
DTEND;TZID=America/New_York:20270801T113000
DTSTAMP:20260420T095116
CREATED:20190917T092646Z
LAST-MODIFIED:20241122T174830Z
UID:10000190-1817114400-1817119800@houseofpraiserichardson.org
SUMMARY:Sunday Service
DESCRIPTION:Join us on Sunday for a time of praise\, worship\, fellowship and empowerment.
URL:https://houseofpraiserichardson.org/event/church-sunday/2027-08-01/
LOCATION:Main Auditorium\, House of Praise\, 401 Bowser Road\, Richardson\, TX\, 75081\, United States
CATEGORIES:University
ATTACH;FMTTYPE=image/jpeg:https://houseofpraiserichardson.org/wp-content/uploads/2019/09/DSC_2535-scaled.jpg
ORGANIZER;CN="House of Praise":MAILTO:info@houseofpraiserichardson.org
END:VEVENT
BEGIN:VEVENT
DTSTART;TZID=America/New_York:20270808T100000
DTEND;TZID=America/New_York:20270808T113000
DTSTAMP:20260420T095116
CREATED:20190917T092646Z
LAST-MODIFIED:20241122T174830Z
UID:10000191-1817719200-1817724600@houseofpraiserichardson.org
SUMMARY:Sunday Service
DESCRIPTION:Join us on Sunday for a time of praise\, worship\, fellowship and empowerment.
URL:https://houseofpraiserichardson.org/event/church-sunday/2027-08-08/
LOCATION:Main Auditorium\, House of Praise\, 401 Bowser Road\, Richardson\, TX\, 75081\, United States
CATEGORIES:University
ATTACH;FMTTYPE=image/jpeg:https://houseofpraiserichardson.org/wp-content/uploads/2019/09/DSC_2535-scaled.jpg
ORGANIZER;CN="House of Praise":MAILTO:info@houseofpraiserichardson.org
END:VEVENT
BEGIN:VEVENT
DTSTART;TZID=America/New_York:20270815T100000
DTEND;TZID=America/New_York:20270815T113000
DTSTAMP:20260420T095116
CREATED:20190917T092646Z
LAST-MODIFIED:20241122T174830Z
UID:10000192-1818324000-1818329400@houseofpraiserichardson.org
SUMMARY:Sunday Service
DESCRIPTION:Join us on Sunday for a time of praise\, worship\, fellowship and empowerment.
URL:https://houseofpraiserichardson.org/event/church-sunday/2027-08-15/
LOCATION:Main Auditorium\, House of Praise\, 401 Bowser Road\, Richardson\, TX\, 75081\, United States
CATEGORIES:University
ATTACH;FMTTYPE=image/jpeg:https://houseofpraiserichardson.org/wp-content/uploads/2019/09/DSC_2535-scaled.jpg
ORGANIZER;CN="House of Praise":MAILTO:info@houseofpraiserichardson.org
END:VEVENT
BEGIN:VEVENT
DTSTART;TZID=America/New_York:20270822T100000
DTEND;TZID=America/New_York:20270822T113000
DTSTAMP:20260420T095116
CREATED:20190917T092646Z
LAST-MODIFIED:20241122T174830Z
UID:10000193-1818928800-1818934200@houseofpraiserichardson.org
SUMMARY:Sunday Service
DESCRIPTION:Join us on Sunday for a time of praise\, worship\, fellowship and empowerment.
URL:https://houseofpraiserichardson.org/event/church-sunday/2027-08-22/
LOCATION:Main Auditorium\, House of Praise\, 401 Bowser Road\, Richardson\, TX\, 75081\, United States
CATEGORIES:University
ATTACH;FMTTYPE=image/jpeg:https://houseofpraiserichardson.org/wp-content/uploads/2019/09/DSC_2535-scaled.jpg
ORGANIZER;CN="House of Praise":MAILTO:info@houseofpraiserichardson.org
END:VEVENT
BEGIN:VEVENT
DTSTART;TZID=America/New_York:20270829T100000
DTEND;TZID=America/New_York:20270829T113000
DTSTAMP:20260420T095116
CREATED:20190917T092646Z
LAST-MODIFIED:20241122T174830Z
UID:10000194-1819533600-1819539000@houseofpraiserichardson.org
SUMMARY:Sunday Service
DESCRIPTION:Join us on Sunday for a time of praise\, worship\, fellowship and empowerment.
URL:https://houseofpraiserichardson.org/event/church-sunday/2027-08-29/
LOCATION:Main Auditorium\, House of Praise\, 401 Bowser Road\, Richardson\, TX\, 75081\, United States
CATEGORIES:University
ATTACH;FMTTYPE=image/jpeg:https://houseofpraiserichardson.org/wp-content/uploads/2019/09/DSC_2535-scaled.jpg
ORGANIZER;CN="House of Praise":MAILTO:info@houseofpraiserichardson.org
END:VEVENT
BEGIN:VEVENT
DTSTART;TZID=America/New_York:20270905T100000
DTEND;TZID=America/New_York:20270905T113000
DTSTAMP:20260420T095116
CREATED:20190917T092646Z
LAST-MODIFIED:20241122T174830Z
UID:10000195-1820138400-1820143800@houseofpraiserichardson.org
SUMMARY:Sunday Service
DESCRIPTION:Join us on Sunday for a time of praise\, worship\, fellowship and empowerment.
URL:https://houseofpraiserichardson.org/event/church-sunday/2027-09-05/
LOCATION:Main Auditorium\, House of Praise\, 401 Bowser Road\, Richardson\, TX\, 75081\, United States
CATEGORIES:University
ATTACH;FMTTYPE=image/jpeg:https://houseofpraiserichardson.org/wp-content/uploads/2019/09/DSC_2535-scaled.jpg
ORGANIZER;CN="House of Praise":MAILTO:info@houseofpraiserichardson.org
END:VEVENT
BEGIN:VEVENT
DTSTART;TZID=America/New_York:20270912T100000
DTEND;TZID=America/New_York:20270912T113000
DTSTAMP:20260420T095116
CREATED:20190917T092646Z
LAST-MODIFIED:20241122T174830Z
UID:10000196-1820743200-1820748600@houseofpraiserichardson.org
SUMMARY:Sunday Service
DESCRIPTION:Join us on Sunday for a time of praise\, worship\, fellowship and empowerment.
URL:https://houseofpraiserichardson.org/event/church-sunday/2027-09-12/
LOCATION:Main Auditorium\, House of Praise\, 401 Bowser Road\, Richardson\, TX\, 75081\, United States
CATEGORIES:University
ATTACH;FMTTYPE=image/jpeg:https://houseofpraiserichardson.org/wp-content/uploads/2019/09/DSC_2535-scaled.jpg
ORGANIZER;CN="House of Praise":MAILTO:info@houseofpraiserichardson.org
END:VEVENT
BEGIN:VEVENT
DTSTART;TZID=America/New_York:20270919T100000
DTEND;TZID=America/New_York:20270919T113000
DTSTAMP:20260420T095116
CREATED:20190917T092646Z
LAST-MODIFIED:20241122T174830Z
UID:10000197-1821348000-1821353400@houseofpraiserichardson.org
SUMMARY:Sunday Service
DESCRIPTION:Join us on Sunday for a time of praise\, worship\, fellowship and empowerment.
URL:https://houseofpraiserichardson.org/event/church-sunday/2027-09-19/
LOCATION:Main Auditorium\, House of Praise\, 401 Bowser Road\, Richardson\, TX\, 75081\, United States
CATEGORIES:University
ATTACH;FMTTYPE=image/jpeg:https://houseofpraiserichardson.org/wp-content/uploads/2019/09/DSC_2535-scaled.jpg
ORGANIZER;CN="House of Praise":MAILTO:info@houseofpraiserichardson.org
END:VEVENT
BEGIN:VEVENT
DTSTART;TZID=America/New_York:20270926T100000
DTEND;TZID=America/New_York:20270926T113000
DTSTAMP:20260420T095116
CREATED:20190917T092646Z
LAST-MODIFIED:20241122T174830Z
UID:10000198-1821952800-1821958200@houseofpraiserichardson.org
SUMMARY:Sunday Service
DESCRIPTION:Join us on Sunday for a time of praise\, worship\, fellowship and empowerment.
URL:https://houseofpraiserichardson.org/event/church-sunday/2027-09-26/
LOCATION:Main Auditorium\, House of Praise\, 401 Bowser Road\, Richardson\, TX\, 75081\, United States
CATEGORIES:University
ATTACH;FMTTYPE=image/jpeg:https://houseofpraiserichardson.org/wp-content/uploads/2019/09/DSC_2535-scaled.jpg
ORGANIZER;CN="House of Praise":MAILTO:info@houseofpraiserichardson.org
END:VEVENT
BEGIN:VEVENT
DTSTART;TZID=America/New_York:20271003T100000
DTEND;TZID=America/New_York:20271003T113000
DTSTAMP:20260420T095116
CREATED:20190917T092646Z
LAST-MODIFIED:20241122T174830Z
UID:10000199-1822557600-1822563000@houseofpraiserichardson.org
SUMMARY:Sunday Service
DESCRIPTION:Join us on Sunday for a time of praise\, worship\, fellowship and empowerment.
URL:https://houseofpraiserichardson.org/event/church-sunday/2027-10-03/
LOCATION:Main Auditorium\, House of Praise\, 401 Bowser Road\, Richardson\, TX\, 75081\, United States
CATEGORIES:University
ATTACH;FMTTYPE=image/jpeg:https://houseofpraiserichardson.org/wp-content/uploads/2019/09/DSC_2535-scaled.jpg
ORGANIZER;CN="House of Praise":MAILTO:info@houseofpraiserichardson.org
END:VEVENT
BEGIN:VEVENT
DTSTART;TZID=America/New_York:20271010T100000
DTEND;TZID=America/New_York:20271010T113000
DTSTAMP:20260420T095116
CREATED:20190917T092646Z
LAST-MODIFIED:20241122T174830Z
UID:10000200-1823162400-1823167800@houseofpraiserichardson.org
SUMMARY:Sunday Service
DESCRIPTION:Join us on Sunday for a time of praise\, worship\, fellowship and empowerment.
URL:https://houseofpraiserichardson.org/event/church-sunday/2027-10-10/
LOCATION:Main Auditorium\, House of Praise\, 401 Bowser Road\, Richardson\, TX\, 75081\, United States
CATEGORIES:University
ATTACH;FMTTYPE=image/jpeg:https://houseofpraiserichardson.org/wp-content/uploads/2019/09/DSC_2535-scaled.jpg
ORGANIZER;CN="House of Praise":MAILTO:info@houseofpraiserichardson.org
END:VEVENT
BEGIN:VEVENT
DTSTART;TZID=America/New_York:20271017T100000
DTEND;TZID=America/New_York:20271017T113000
DTSTAMP:20260420T095116
CREATED:20190917T092646Z
LAST-MODIFIED:20241122T174830Z
UID:10000201-1823767200-1823772600@houseofpraiserichardson.org
SUMMARY:Sunday Service
DESCRIPTION:Join us on Sunday for a time of praise\, worship\, fellowship and empowerment.
URL:https://houseofpraiserichardson.org/event/church-sunday/2027-10-17/
LOCATION:Main Auditorium\, House of Praise\, 401 Bowser Road\, Richardson\, TX\, 75081\, United States
CATEGORIES:University
ATTACH;FMTTYPE=image/jpeg:https://houseofpraiserichardson.org/wp-content/uploads/2019/09/DSC_2535-scaled.jpg
ORGANIZER;CN="House of Praise":MAILTO:info@houseofpraiserichardson.org
END:VEVENT
END:VCALENDAR