BEGIN:VCALENDAR
VERSION:2.0
PRODID:-//RCCG House of Praise, Dallas - ECPv6.8.2.1//NONSGML v1.0//EN
CALSCALE:GREGORIAN
METHOD:PUBLISH
X-ORIGINAL-URL:https://houseofpraiserichardson.org
X-WR-CALDESC:Events for RCCG House of Praise, Dallas
REFRESH-INTERVAL;VALUE=DURATION:PT1H
X-Robots-Tag:noindex
X-PUBLISHED-TTL:PT1H
BEGIN:VTIMEZONE
TZID:America/New_York
BEGIN:DAYLIGHT
TZOFFSETFROM:-0500
TZOFFSETTO:-0400
TZNAME:EDT
DTSTART:20270314T070000
END:DAYLIGHT
BEGIN:STANDARD
TZOFFSETFROM:-0400
TZOFFSETTO:-0500
TZNAME:EST
DTSTART:20271107T060000
END:STANDARD
BEGIN:DAYLIGHT
TZOFFSETFROM:-0500
TZOFFSETTO:-0400
TZNAME:EDT
DTSTART:20280312T070000
END:DAYLIGHT
BEGIN:STANDARD
TZOFFSETFROM:-0400
TZOFFSETTO:-0500
TZNAME:EST
DTSTART:20281105T060000
END:STANDARD
END:VTIMEZONE
BEGIN:VEVENT
DTSTART;TZID=America/New_York:20270915T190000
DTEND;TZID=America/New_York:20270915T203000
DTSTAMP:20260424T115819
CREATED:20190917T092801Z
LAST-MODIFIED:20241122T174948Z
UID:10000717-1821034800-1821040200@houseofpraiserichardson.org
SUMMARY:Working Word & Communion Service
DESCRIPTION:Join us this Wednesday for a refreshing time in God’s infallable Word and Communion Service.
URL:https://houseofpraiserichardson.org/event/communion/2027-09-15/
LOCATION:Main Auditorium\, House of Praise\, 401 Bowser Road\, Richardson\, TX\, 75081\, United States
CATEGORIES:University
ATTACH;FMTTYPE=image/jpeg:https://houseofpraiserichardson.org/wp-content/uploads/2019/09/house-of-praise-working-word.jpeg
ORGANIZER;CN="House of Praise":MAILTO:info@houseofpraiserichardson.org
END:VEVENT
BEGIN:VEVENT
DTSTART;TZID=America/New_York:20270922T190000
DTEND;TZID=America/New_York:20270922T203000
DTSTAMP:20260424T115819
CREATED:20190917T092801Z
LAST-MODIFIED:20241122T174948Z
UID:10000718-1821639600-1821645000@houseofpraiserichardson.org
SUMMARY:Working Word & Communion Service
DESCRIPTION:Join us this Wednesday for a refreshing time in God’s infallable Word and Communion Service.
URL:https://houseofpraiserichardson.org/event/communion/2027-09-22/
LOCATION:Main Auditorium\, House of Praise\, 401 Bowser Road\, Richardson\, TX\, 75081\, United States
CATEGORIES:University
ATTACH;FMTTYPE=image/jpeg:https://houseofpraiserichardson.org/wp-content/uploads/2019/09/house-of-praise-working-word.jpeg
ORGANIZER;CN="House of Praise":MAILTO:info@houseofpraiserichardson.org
END:VEVENT
BEGIN:VEVENT
DTSTART;TZID=America/New_York:20270929T190000
DTEND;TZID=America/New_York:20270929T203000
DTSTAMP:20260424T115819
CREATED:20190917T092801Z
LAST-MODIFIED:20241122T174948Z
UID:10000719-1822244400-1822249800@houseofpraiserichardson.org
SUMMARY:Working Word & Communion Service
DESCRIPTION:Join us this Wednesday for a refreshing time in God’s infallable Word and Communion Service.
URL:https://houseofpraiserichardson.org/event/communion/2027-09-29/
LOCATION:Main Auditorium\, House of Praise\, 401 Bowser Road\, Richardson\, TX\, 75081\, United States
CATEGORIES:University
ATTACH;FMTTYPE=image/jpeg:https://houseofpraiserichardson.org/wp-content/uploads/2019/09/house-of-praise-working-word.jpeg
ORGANIZER;CN="House of Praise":MAILTO:info@houseofpraiserichardson.org
END:VEVENT
BEGIN:VEVENT
DTSTART;TZID=America/New_York:20271006T190000
DTEND;TZID=America/New_York:20271006T203000
DTSTAMP:20260424T115819
CREATED:20190917T092801Z
LAST-MODIFIED:20241122T174948Z
UID:10000720-1822849200-1822854600@houseofpraiserichardson.org
SUMMARY:Working Word & Communion Service
DESCRIPTION:Join us this Wednesday for a refreshing time in God’s infallable Word and Communion Service.
URL:https://houseofpraiserichardson.org/event/communion/2027-10-06/
LOCATION:Main Auditorium\, House of Praise\, 401 Bowser Road\, Richardson\, TX\, 75081\, United States
CATEGORIES:University
ATTACH;FMTTYPE=image/jpeg:https://houseofpraiserichardson.org/wp-content/uploads/2019/09/house-of-praise-working-word.jpeg
ORGANIZER;CN="House of Praise":MAILTO:info@houseofpraiserichardson.org
END:VEVENT
BEGIN:VEVENT
DTSTART;TZID=America/New_York:20271013T190000
DTEND;TZID=America/New_York:20271013T203000
DTSTAMP:20260424T115819
CREATED:20190917T092801Z
LAST-MODIFIED:20241122T174948Z
UID:10000721-1823454000-1823459400@houseofpraiserichardson.org
SUMMARY:Working Word & Communion Service
DESCRIPTION:Join us this Wednesday for a refreshing time in God’s infallable Word and Communion Service.
URL:https://houseofpraiserichardson.org/event/communion/2027-10-13/
LOCATION:Main Auditorium\, House of Praise\, 401 Bowser Road\, Richardson\, TX\, 75081\, United States
CATEGORIES:University
ATTACH;FMTTYPE=image/jpeg:https://houseofpraiserichardson.org/wp-content/uploads/2019/09/house-of-praise-working-word.jpeg
ORGANIZER;CN="House of Praise":MAILTO:info@houseofpraiserichardson.org
END:VEVENT
BEGIN:VEVENT
DTSTART;TZID=America/New_York:20271020T190000
DTEND;TZID=America/New_York:20271020T203000
DTSTAMP:20260424T115819
CREATED:20190917T092801Z
LAST-MODIFIED:20241122T174948Z
UID:10000722-1824058800-1824064200@houseofpraiserichardson.org
SUMMARY:Working Word & Communion Service
DESCRIPTION:Join us this Wednesday for a refreshing time in God’s infallable Word and Communion Service.
URL:https://houseofpraiserichardson.org/event/communion/2027-10-20/
LOCATION:Main Auditorium\, House of Praise\, 401 Bowser Road\, Richardson\, TX\, 75081\, United States
CATEGORIES:University
ATTACH;FMTTYPE=image/jpeg:https://houseofpraiserichardson.org/wp-content/uploads/2019/09/house-of-praise-working-word.jpeg
ORGANIZER;CN="House of Praise":MAILTO:info@houseofpraiserichardson.org
END:VEVENT
BEGIN:VEVENT
DTSTART;TZID=America/New_York:20271027T190000
DTEND;TZID=America/New_York:20271027T203000
DTSTAMP:20260424T115819
CREATED:20190917T092801Z
LAST-MODIFIED:20241122T174948Z
UID:10000723-1824663600-1824669000@houseofpraiserichardson.org
SUMMARY:Working Word & Communion Service
DESCRIPTION:Join us this Wednesday for a refreshing time in God’s infallable Word and Communion Service.
URL:https://houseofpraiserichardson.org/event/communion/2027-10-27/
LOCATION:Main Auditorium\, House of Praise\, 401 Bowser Road\, Richardson\, TX\, 75081\, United States
CATEGORIES:University
ATTACH;FMTTYPE=image/jpeg:https://houseofpraiserichardson.org/wp-content/uploads/2019/09/house-of-praise-working-word.jpeg
ORGANIZER;CN="House of Praise":MAILTO:info@houseofpraiserichardson.org
END:VEVENT
BEGIN:VEVENT
DTSTART;TZID=America/New_York:20271103T190000
DTEND;TZID=America/New_York:20271103T203000
DTSTAMP:20260424T115819
CREATED:20190917T092801Z
LAST-MODIFIED:20241122T174948Z
UID:10000724-1825268400-1825273800@houseofpraiserichardson.org
SUMMARY:Working Word & Communion Service
DESCRIPTION:Join us this Wednesday for a refreshing time in God’s infallable Word and Communion Service.
URL:https://houseofpraiserichardson.org/event/communion/2027-11-03/
LOCATION:Main Auditorium\, House of Praise\, 401 Bowser Road\, Richardson\, TX\, 75081\, United States
CATEGORIES:University
ATTACH;FMTTYPE=image/jpeg:https://houseofpraiserichardson.org/wp-content/uploads/2019/09/house-of-praise-working-word.jpeg
ORGANIZER;CN="House of Praise":MAILTO:info@houseofpraiserichardson.org
END:VEVENT
BEGIN:VEVENT
DTSTART;TZID=America/New_York:20271110T190000
DTEND;TZID=America/New_York:20271110T203000
DTSTAMP:20260424T115819
CREATED:20190917T092801Z
LAST-MODIFIED:20241122T174948Z
UID:10000725-1825873200-1825878600@houseofpraiserichardson.org
SUMMARY:Working Word & Communion Service
DESCRIPTION:Join us this Wednesday for a refreshing time in God’s infallable Word and Communion Service.
URL:https://houseofpraiserichardson.org/event/communion/2027-11-10/
LOCATION:Main Auditorium\, House of Praise\, 401 Bowser Road\, Richardson\, TX\, 75081\, United States
CATEGORIES:University
ATTACH;FMTTYPE=image/jpeg:https://houseofpraiserichardson.org/wp-content/uploads/2019/09/house-of-praise-working-word.jpeg
ORGANIZER;CN="House of Praise":MAILTO:info@houseofpraiserichardson.org
END:VEVENT
BEGIN:VEVENT
DTSTART;TZID=America/New_York:20271117T190000
DTEND;TZID=America/New_York:20271117T203000
DTSTAMP:20260424T115819
CREATED:20190917T092801Z
LAST-MODIFIED:20241122T174948Z
UID:10000726-1826478000-1826483400@houseofpraiserichardson.org
SUMMARY:Working Word & Communion Service
DESCRIPTION:Join us this Wednesday for a refreshing time in God’s infallable Word and Communion Service.
URL:https://houseofpraiserichardson.org/event/communion/2027-11-17/
LOCATION:Main Auditorium\, House of Praise\, 401 Bowser Road\, Richardson\, TX\, 75081\, United States
CATEGORIES:University
ATTACH;FMTTYPE=image/jpeg:https://houseofpraiserichardson.org/wp-content/uploads/2019/09/house-of-praise-working-word.jpeg
ORGANIZER;CN="House of Praise":MAILTO:info@houseofpraiserichardson.org
END:VEVENT
BEGIN:VEVENT
DTSTART;TZID=America/New_York:20271124T190000
DTEND;TZID=America/New_York:20271124T203000
DTSTAMP:20260424T115819
CREATED:20190917T092801Z
LAST-MODIFIED:20241122T174948Z
UID:10000727-1827082800-1827088200@houseofpraiserichardson.org
SUMMARY:Working Word & Communion Service
DESCRIPTION:Join us this Wednesday for a refreshing time in God’s infallable Word and Communion Service.
URL:https://houseofpraiserichardson.org/event/communion/2027-11-24/
LOCATION:Main Auditorium\, House of Praise\, 401 Bowser Road\, Richardson\, TX\, 75081\, United States
CATEGORIES:University
ATTACH;FMTTYPE=image/jpeg:https://houseofpraiserichardson.org/wp-content/uploads/2019/09/house-of-praise-working-word.jpeg
ORGANIZER;CN="House of Praise":MAILTO:info@houseofpraiserichardson.org
END:VEVENT
BEGIN:VEVENT
DTSTART;TZID=America/New_York:20271201T190000
DTEND;TZID=America/New_York:20271201T203000
DTSTAMP:20260424T115819
CREATED:20190917T092801Z
LAST-MODIFIED:20241122T174948Z
UID:10000728-1827687600-1827693000@houseofpraiserichardson.org
SUMMARY:Working Word & Communion Service
DESCRIPTION:Join us this Wednesday for a refreshing time in God’s infallable Word and Communion Service.
URL:https://houseofpraiserichardson.org/event/communion/2027-12-01/
LOCATION:Main Auditorium\, House of Praise\, 401 Bowser Road\, Richardson\, TX\, 75081\, United States
CATEGORIES:University
ATTACH;FMTTYPE=image/jpeg:https://houseofpraiserichardson.org/wp-content/uploads/2019/09/house-of-praise-working-word.jpeg
ORGANIZER;CN="House of Praise":MAILTO:info@houseofpraiserichardson.org
END:VEVENT
BEGIN:VEVENT
DTSTART;TZID=America/New_York:20271208T190000
DTEND;TZID=America/New_York:20271208T203000
DTSTAMP:20260424T115819
CREATED:20190917T092801Z
LAST-MODIFIED:20241122T174948Z
UID:10000729-1828292400-1828297800@houseofpraiserichardson.org
SUMMARY:Working Word & Communion Service
DESCRIPTION:Join us this Wednesday for a refreshing time in God’s infallable Word and Communion Service.
URL:https://houseofpraiserichardson.org/event/communion/2027-12-08/
LOCATION:Main Auditorium\, House of Praise\, 401 Bowser Road\, Richardson\, TX\, 75081\, United States
CATEGORIES:University
ATTACH;FMTTYPE=image/jpeg:https://houseofpraiserichardson.org/wp-content/uploads/2019/09/house-of-praise-working-word.jpeg
ORGANIZER;CN="House of Praise":MAILTO:info@houseofpraiserichardson.org
END:VEVENT
BEGIN:VEVENT
DTSTART;TZID=America/New_York:20271215T190000
DTEND;TZID=America/New_York:20271215T203000
DTSTAMP:20260424T115819
CREATED:20190917T092801Z
LAST-MODIFIED:20241122T174948Z
UID:10000730-1828897200-1828902600@houseofpraiserichardson.org
SUMMARY:Working Word & Communion Service
DESCRIPTION:Join us this Wednesday for a refreshing time in God’s infallable Word and Communion Service.
URL:https://houseofpraiserichardson.org/event/communion/2027-12-15/
LOCATION:Main Auditorium\, House of Praise\, 401 Bowser Road\, Richardson\, TX\, 75081\, United States
CATEGORIES:University
ATTACH;FMTTYPE=image/jpeg:https://houseofpraiserichardson.org/wp-content/uploads/2019/09/house-of-praise-working-word.jpeg
ORGANIZER;CN="House of Praise":MAILTO:info@houseofpraiserichardson.org
END:VEVENT
BEGIN:VEVENT
DTSTART;TZID=America/New_York:20271222T190000
DTEND;TZID=America/New_York:20271222T203000
DTSTAMP:20260424T115819
CREATED:20190917T092801Z
LAST-MODIFIED:20241122T174948Z
UID:10000731-1829502000-1829507400@houseofpraiserichardson.org
SUMMARY:Working Word & Communion Service
DESCRIPTION:Join us this Wednesday for a refreshing time in God’s infallable Word and Communion Service.
URL:https://houseofpraiserichardson.org/event/communion/2027-12-22/
LOCATION:Main Auditorium\, House of Praise\, 401 Bowser Road\, Richardson\, TX\, 75081\, United States
CATEGORIES:University
ATTACH;FMTTYPE=image/jpeg:https://houseofpraiserichardson.org/wp-content/uploads/2019/09/house-of-praise-working-word.jpeg
ORGANIZER;CN="House of Praise":MAILTO:info@houseofpraiserichardson.org
END:VEVENT
BEGIN:VEVENT
DTSTART;TZID=America/New_York:20271229T190000
DTEND;TZID=America/New_York:20271229T203000
DTSTAMP:20260424T115819
CREATED:20190917T092801Z
LAST-MODIFIED:20241122T174948Z
UID:10000732-1830106800-1830112200@houseofpraiserichardson.org
SUMMARY:Working Word & Communion Service
DESCRIPTION:Join us this Wednesday for a refreshing time in God’s infallable Word and Communion Service.
URL:https://houseofpraiserichardson.org/event/communion/2027-12-29/
LOCATION:Main Auditorium\, House of Praise\, 401 Bowser Road\, Richardson\, TX\, 75081\, United States
CATEGORIES:University
ATTACH;FMTTYPE=image/jpeg:https://houseofpraiserichardson.org/wp-content/uploads/2019/09/house-of-praise-working-word.jpeg
ORGANIZER;CN="House of Praise":MAILTO:info@houseofpraiserichardson.org
END:VEVENT
BEGIN:VEVENT
DTSTART;TZID=America/New_York:20280105T190000
DTEND;TZID=America/New_York:20280105T203000
DTSTAMP:20260424T115819
CREATED:20190917T092801Z
LAST-MODIFIED:20241122T174948Z
UID:10000733-1830711600-1830717000@houseofpraiserichardson.org
SUMMARY:Working Word & Communion Service
DESCRIPTION:Join us this Wednesday for a refreshing time in God’s infallable Word and Communion Service.
URL:https://houseofpraiserichardson.org/event/communion/2028-01-05/
LOCATION:Main Auditorium\, House of Praise\, 401 Bowser Road\, Richardson\, TX\, 75081\, United States
CATEGORIES:University
ATTACH;FMTTYPE=image/jpeg:https://houseofpraiserichardson.org/wp-content/uploads/2019/09/house-of-praise-working-word.jpeg
ORGANIZER;CN="House of Praise":MAILTO:info@houseofpraiserichardson.org
END:VEVENT
BEGIN:VEVENT
DTSTART;TZID=America/New_York:20280112T190000
DTEND;TZID=America/New_York:20280112T203000
DTSTAMP:20260424T115819
CREATED:20190917T092801Z
LAST-MODIFIED:20241122T174948Z
UID:10000734-1831316400-1831321800@houseofpraiserichardson.org
SUMMARY:Working Word & Communion Service
DESCRIPTION:Join us this Wednesday for a refreshing time in God’s infallable Word and Communion Service.
URL:https://houseofpraiserichardson.org/event/communion/2028-01-12/
LOCATION:Main Auditorium\, House of Praise\, 401 Bowser Road\, Richardson\, TX\, 75081\, United States
CATEGORIES:University
ATTACH;FMTTYPE=image/jpeg:https://houseofpraiserichardson.org/wp-content/uploads/2019/09/house-of-praise-working-word.jpeg
ORGANIZER;CN="House of Praise":MAILTO:info@houseofpraiserichardson.org
END:VEVENT
BEGIN:VEVENT
DTSTART;TZID=America/New_York:20280119T190000
DTEND;TZID=America/New_York:20280119T203000
DTSTAMP:20260424T115819
CREATED:20190917T092801Z
LAST-MODIFIED:20241122T174948Z
UID:10000735-1831921200-1831926600@houseofpraiserichardson.org
SUMMARY:Working Word & Communion Service
DESCRIPTION:Join us this Wednesday for a refreshing time in God’s infallable Word and Communion Service.
URL:https://houseofpraiserichardson.org/event/communion/2028-01-19/
LOCATION:Main Auditorium\, House of Praise\, 401 Bowser Road\, Richardson\, TX\, 75081\, United States
CATEGORIES:University
ATTACH;FMTTYPE=image/jpeg:https://houseofpraiserichardson.org/wp-content/uploads/2019/09/house-of-praise-working-word.jpeg
ORGANIZER;CN="House of Praise":MAILTO:info@houseofpraiserichardson.org
END:VEVENT
BEGIN:VEVENT
DTSTART;TZID=America/New_York:20280126T190000
DTEND;TZID=America/New_York:20280126T203000
DTSTAMP:20260424T115819
CREATED:20190917T092801Z
LAST-MODIFIED:20241122T174948Z
UID:10000736-1832526000-1832531400@houseofpraiserichardson.org
SUMMARY:Working Word & Communion Service
DESCRIPTION:Join us this Wednesday for a refreshing time in God’s infallable Word and Communion Service.
URL:https://houseofpraiserichardson.org/event/communion/2028-01-26/
LOCATION:Main Auditorium\, House of Praise\, 401 Bowser Road\, Richardson\, TX\, 75081\, United States
CATEGORIES:University
ATTACH;FMTTYPE=image/jpeg:https://houseofpraiserichardson.org/wp-content/uploads/2019/09/house-of-praise-working-word.jpeg
ORGANIZER;CN="House of Praise":MAILTO:info@houseofpraiserichardson.org
END:VEVENT
BEGIN:VEVENT
DTSTART;TZID=America/New_York:20280202T190000
DTEND;TZID=America/New_York:20280202T203000
DTSTAMP:20260424T115819
CREATED:20190917T092801Z
LAST-MODIFIED:20241122T174948Z
UID:10000737-1833130800-1833136200@houseofpraiserichardson.org
SUMMARY:Working Word & Communion Service
DESCRIPTION:Join us this Wednesday for a refreshing time in God’s infallable Word and Communion Service.
URL:https://houseofpraiserichardson.org/event/communion/2028-02-02/
LOCATION:Main Auditorium\, House of Praise\, 401 Bowser Road\, Richardson\, TX\, 75081\, United States
CATEGORIES:University
ATTACH;FMTTYPE=image/jpeg:https://houseofpraiserichardson.org/wp-content/uploads/2019/09/house-of-praise-working-word.jpeg
ORGANIZER;CN="House of Praise":MAILTO:info@houseofpraiserichardson.org
END:VEVENT
BEGIN:VEVENT
DTSTART;TZID=America/New_York:20280209T190000
DTEND;TZID=America/New_York:20280209T203000
DTSTAMP:20260424T115819
CREATED:20190917T092801Z
LAST-MODIFIED:20241122T174948Z
UID:10000738-1833735600-1833741000@houseofpraiserichardson.org
SUMMARY:Working Word & Communion Service
DESCRIPTION:Join us this Wednesday for a refreshing time in God’s infallable Word and Communion Service.
URL:https://houseofpraiserichardson.org/event/communion/2028-02-09/
LOCATION:Main Auditorium\, House of Praise\, 401 Bowser Road\, Richardson\, TX\, 75081\, United States
CATEGORIES:University
ATTACH;FMTTYPE=image/jpeg:https://houseofpraiserichardson.org/wp-content/uploads/2019/09/house-of-praise-working-word.jpeg
ORGANIZER;CN="House of Praise":MAILTO:info@houseofpraiserichardson.org
END:VEVENT
BEGIN:VEVENT
DTSTART;TZID=America/New_York:20280216T190000
DTEND;TZID=America/New_York:20280216T203000
DTSTAMP:20260424T115819
CREATED:20190917T092801Z
LAST-MODIFIED:20241122T174948Z
UID:10000739-1834340400-1834345800@houseofpraiserichardson.org
SUMMARY:Working Word & Communion Service
DESCRIPTION:Join us this Wednesday for a refreshing time in God’s infallable Word and Communion Service.
URL:https://houseofpraiserichardson.org/event/communion/2028-02-16/
LOCATION:Main Auditorium\, House of Praise\, 401 Bowser Road\, Richardson\, TX\, 75081\, United States
CATEGORIES:University
ATTACH;FMTTYPE=image/jpeg:https://houseofpraiserichardson.org/wp-content/uploads/2019/09/house-of-praise-working-word.jpeg
ORGANIZER;CN="House of Praise":MAILTO:info@houseofpraiserichardson.org
END:VEVENT
BEGIN:VEVENT
DTSTART;TZID=America/New_York:20280223T190000
DTEND;TZID=America/New_York:20280223T203000
DTSTAMP:20260424T115819
CREATED:20190917T092801Z
LAST-MODIFIED:20241122T174948Z
UID:10000740-1834945200-1834950600@houseofpraiserichardson.org
SUMMARY:Working Word & Communion Service
DESCRIPTION:Join us this Wednesday for a refreshing time in God’s infallable Word and Communion Service.
URL:https://houseofpraiserichardson.org/event/communion/2028-02-23/
LOCATION:Main Auditorium\, House of Praise\, 401 Bowser Road\, Richardson\, TX\, 75081\, United States
CATEGORIES:University
ATTACH;FMTTYPE=image/jpeg:https://houseofpraiserichardson.org/wp-content/uploads/2019/09/house-of-praise-working-word.jpeg
ORGANIZER;CN="House of Praise":MAILTO:info@houseofpraiserichardson.org
END:VEVENT
BEGIN:VEVENT
DTSTART;TZID=America/New_York:20280301T190000
DTEND;TZID=America/New_York:20280301T203000
DTSTAMP:20260424T115819
CREATED:20190917T092801Z
LAST-MODIFIED:20241122T174948Z
UID:10000741-1835550000-1835555400@houseofpraiserichardson.org
SUMMARY:Working Word & Communion Service
DESCRIPTION:Join us this Wednesday for a refreshing time in God’s infallable Word and Communion Service.
URL:https://houseofpraiserichardson.org/event/communion/2028-03-01/
LOCATION:Main Auditorium\, House of Praise\, 401 Bowser Road\, Richardson\, TX\, 75081\, United States
CATEGORIES:University
ATTACH;FMTTYPE=image/jpeg:https://houseofpraiserichardson.org/wp-content/uploads/2019/09/house-of-praise-working-word.jpeg
ORGANIZER;CN="House of Praise":MAILTO:info@houseofpraiserichardson.org
END:VEVENT
BEGIN:VEVENT
DTSTART;TZID=America/New_York:20280308T190000
DTEND;TZID=America/New_York:20280308T203000
DTSTAMP:20260424T115819
CREATED:20190917T092801Z
LAST-MODIFIED:20241122T174948Z
UID:10000742-1836154800-1836160200@houseofpraiserichardson.org
SUMMARY:Working Word & Communion Service
DESCRIPTION:Join us this Wednesday for a refreshing time in God’s infallable Word and Communion Service.
URL:https://houseofpraiserichardson.org/event/communion/2028-03-08/
LOCATION:Main Auditorium\, House of Praise\, 401 Bowser Road\, Richardson\, TX\, 75081\, United States
CATEGORIES:University
ATTACH;FMTTYPE=image/jpeg:https://houseofpraiserichardson.org/wp-content/uploads/2019/09/house-of-praise-working-word.jpeg
ORGANIZER;CN="House of Praise":MAILTO:info@houseofpraiserichardson.org
END:VEVENT
BEGIN:VEVENT
DTSTART;TZID=America/New_York:20280315T190000
DTEND;TZID=America/New_York:20280315T203000
DTSTAMP:20260424T115819
CREATED:20190917T092801Z
LAST-MODIFIED:20241122T174948Z
UID:10000743-1836759600-1836765000@houseofpraiserichardson.org
SUMMARY:Working Word & Communion Service
DESCRIPTION:Join us this Wednesday for a refreshing time in God’s infallable Word and Communion Service.
URL:https://houseofpraiserichardson.org/event/communion/2028-03-15/
LOCATION:Main Auditorium\, House of Praise\, 401 Bowser Road\, Richardson\, TX\, 75081\, United States
CATEGORIES:University
ATTACH;FMTTYPE=image/jpeg:https://houseofpraiserichardson.org/wp-content/uploads/2019/09/house-of-praise-working-word.jpeg
ORGANIZER;CN="House of Praise":MAILTO:info@houseofpraiserichardson.org
END:VEVENT
BEGIN:VEVENT
DTSTART;TZID=America/New_York:20280322T190000
DTEND;TZID=America/New_York:20280322T203000
DTSTAMP:20260424T115819
CREATED:20190917T092801Z
LAST-MODIFIED:20241122T174948Z
UID:10000744-1837364400-1837369800@houseofpraiserichardson.org
SUMMARY:Working Word & Communion Service
DESCRIPTION:Join us this Wednesday for a refreshing time in God’s infallable Word and Communion Service.
URL:https://houseofpraiserichardson.org/event/communion/2028-03-22/
LOCATION:Main Auditorium\, House of Praise\, 401 Bowser Road\, Richardson\, TX\, 75081\, United States
CATEGORIES:University
ATTACH;FMTTYPE=image/jpeg:https://houseofpraiserichardson.org/wp-content/uploads/2019/09/house-of-praise-working-word.jpeg
ORGANIZER;CN="House of Praise":MAILTO:info@houseofpraiserichardson.org
END:VEVENT
BEGIN:VEVENT
DTSTART;TZID=America/New_York:20280329T190000
DTEND;TZID=America/New_York:20280329T203000
DTSTAMP:20260424T115819
CREATED:20190917T092801Z
LAST-MODIFIED:20241122T174948Z
UID:10000745-1837969200-1837974600@houseofpraiserichardson.org
SUMMARY:Working Word & Communion Service
DESCRIPTION:Join us this Wednesday for a refreshing time in God’s infallable Word and Communion Service.
URL:https://houseofpraiserichardson.org/event/communion/2028-03-29/
LOCATION:Main Auditorium\, House of Praise\, 401 Bowser Road\, Richardson\, TX\, 75081\, United States
CATEGORIES:University
ATTACH;FMTTYPE=image/jpeg:https://houseofpraiserichardson.org/wp-content/uploads/2019/09/house-of-praise-working-word.jpeg
ORGANIZER;CN="House of Praise":MAILTO:info@houseofpraiserichardson.org
END:VEVENT
BEGIN:VEVENT
DTSTART;TZID=America/New_York:20280405T190000
DTEND;TZID=America/New_York:20280405T203000
DTSTAMP:20260424T115819
CREATED:20190917T092801Z
LAST-MODIFIED:20241122T174948Z
UID:10000746-1838574000-1838579400@houseofpraiserichardson.org
SUMMARY:Working Word & Communion Service
DESCRIPTION:Join us this Wednesday for a refreshing time in God’s infallable Word and Communion Service.
URL:https://houseofpraiserichardson.org/event/communion/2028-04-05/
LOCATION:Main Auditorium\, House of Praise\, 401 Bowser Road\, Richardson\, TX\, 75081\, United States
CATEGORIES:University
ATTACH;FMTTYPE=image/jpeg:https://houseofpraiserichardson.org/wp-content/uploads/2019/09/house-of-praise-working-word.jpeg
ORGANIZER;CN="House of Praise":MAILTO:info@houseofpraiserichardson.org
END:VEVENT
END:VCALENDAR