BEGIN:VCALENDAR
VERSION:2.0
PRODID:-//RCCG House of Praise, Dallas - ECPv6.8.2.1//NONSGML v1.0//EN
CALSCALE:GREGORIAN
METHOD:PUBLISH
X-WR-CALNAME:RCCG House of Praise, Dallas
X-ORIGINAL-URL:https://houseofpraiserichardson.org
X-WR-CALDESC:Events for RCCG House of Praise, Dallas
REFRESH-INTERVAL;VALUE=DURATION:PT1H
X-Robots-Tag:noindex
X-PUBLISHED-TTL:PT1H
BEGIN:VTIMEZONE
TZID:America/New_York
BEGIN:DAYLIGHT
TZOFFSETFROM:-0500
TZOFFSETTO:-0400
TZNAME:EDT
DTSTART:20280312T070000
END:DAYLIGHT
BEGIN:STANDARD
TZOFFSETFROM:-0400
TZOFFSETTO:-0500
TZNAME:EST
DTSTART:20281105T060000
END:STANDARD
END:VTIMEZONE
BEGIN:VEVENT
DTSTART;TZID=America/New_York:20280227T100000
DTEND;TZID=America/New_York:20280227T113000
DTSTAMP:20260424T105827
CREATED:20190917T092646Z
LAST-MODIFIED:20241122T174830Z
UID:10000220-1835258400-1835263800@houseofpraiserichardson.org
SUMMARY:Sunday Service
DESCRIPTION:Join us on Sunday for a time of praise\, worship\, fellowship and empowerment.
URL:https://houseofpraiserichardson.org/event/church-sunday/2028-02-27/
LOCATION:Main Auditorium\, House of Praise\, 401 Bowser Road\, Richardson\, TX\, 75081\, United States
CATEGORIES:University
ATTACH;FMTTYPE=image/jpeg:https://houseofpraiserichardson.org/wp-content/uploads/2019/09/DSC_2535-scaled.jpg
ORGANIZER;CN="House of Praise":MAILTO:info@houseofpraiserichardson.org
END:VEVENT
BEGIN:VEVENT
DTSTART;TZID=America/New_York:20280305T100000
DTEND;TZID=America/New_York:20280305T113000
DTSTAMP:20260424T105827
CREATED:20190917T092646Z
LAST-MODIFIED:20241122T174830Z
UID:10000221-1835863200-1835868600@houseofpraiserichardson.org
SUMMARY:Sunday Service
DESCRIPTION:Join us on Sunday for a time of praise\, worship\, fellowship and empowerment.
URL:https://houseofpraiserichardson.org/event/church-sunday/2028-03-05/
LOCATION:Main Auditorium\, House of Praise\, 401 Bowser Road\, Richardson\, TX\, 75081\, United States
CATEGORIES:University
ATTACH;FMTTYPE=image/jpeg:https://houseofpraiserichardson.org/wp-content/uploads/2019/09/DSC_2535-scaled.jpg
ORGANIZER;CN="House of Praise":MAILTO:info@houseofpraiserichardson.org
END:VEVENT
BEGIN:VEVENT
DTSTART;TZID=America/New_York:20280312T100000
DTEND;TZID=America/New_York:20280312T113000
DTSTAMP:20260424T105827
CREATED:20190917T092646Z
LAST-MODIFIED:20241122T174830Z
UID:10000222-1836468000-1836473400@houseofpraiserichardson.org
SUMMARY:Sunday Service
DESCRIPTION:Join us on Sunday for a time of praise\, worship\, fellowship and empowerment.
URL:https://houseofpraiserichardson.org/event/church-sunday/2028-03-12/
LOCATION:Main Auditorium\, House of Praise\, 401 Bowser Road\, Richardson\, TX\, 75081\, United States
CATEGORIES:University
ATTACH;FMTTYPE=image/jpeg:https://houseofpraiserichardson.org/wp-content/uploads/2019/09/DSC_2535-scaled.jpg
ORGANIZER;CN="House of Praise":MAILTO:info@houseofpraiserichardson.org
END:VEVENT
BEGIN:VEVENT
DTSTART;TZID=America/New_York:20280319T100000
DTEND;TZID=America/New_York:20280319T113000
DTSTAMP:20260424T105827
CREATED:20190917T092646Z
LAST-MODIFIED:20241122T174830Z
UID:10000223-1837072800-1837078200@houseofpraiserichardson.org
SUMMARY:Sunday Service
DESCRIPTION:Join us on Sunday for a time of praise\, worship\, fellowship and empowerment.
URL:https://houseofpraiserichardson.org/event/church-sunday/2028-03-19/
LOCATION:Main Auditorium\, House of Praise\, 401 Bowser Road\, Richardson\, TX\, 75081\, United States
CATEGORIES:University
ATTACH;FMTTYPE=image/jpeg:https://houseofpraiserichardson.org/wp-content/uploads/2019/09/DSC_2535-scaled.jpg
ORGANIZER;CN="House of Praise":MAILTO:info@houseofpraiserichardson.org
END:VEVENT
BEGIN:VEVENT
DTSTART;TZID=America/New_York:20280326T100000
DTEND;TZID=America/New_York:20280326T113000
DTSTAMP:20260424T105827
CREATED:20190917T092646Z
LAST-MODIFIED:20241122T174830Z
UID:10000224-1837677600-1837683000@houseofpraiserichardson.org
SUMMARY:Sunday Service
DESCRIPTION:Join us on Sunday for a time of praise\, worship\, fellowship and empowerment.
URL:https://houseofpraiserichardson.org/event/church-sunday/2028-03-26/
LOCATION:Main Auditorium\, House of Praise\, 401 Bowser Road\, Richardson\, TX\, 75081\, United States
CATEGORIES:University
ATTACH;FMTTYPE=image/jpeg:https://houseofpraiserichardson.org/wp-content/uploads/2019/09/DSC_2535-scaled.jpg
ORGANIZER;CN="House of Praise":MAILTO:info@houseofpraiserichardson.org
END:VEVENT
BEGIN:VEVENT
DTSTART;TZID=America/New_York:20280402T100000
DTEND;TZID=America/New_York:20280402T113000
DTSTAMP:20260424T105827
CREATED:20190917T092646Z
LAST-MODIFIED:20241122T174830Z
UID:10000225-1838282400-1838287800@houseofpraiserichardson.org
SUMMARY:Sunday Service
DESCRIPTION:Join us on Sunday for a time of praise\, worship\, fellowship and empowerment.
URL:https://houseofpraiserichardson.org/event/church-sunday/2028-04-02/
LOCATION:Main Auditorium\, House of Praise\, 401 Bowser Road\, Richardson\, TX\, 75081\, United States
CATEGORIES:University
ATTACH;FMTTYPE=image/jpeg:https://houseofpraiserichardson.org/wp-content/uploads/2019/09/DSC_2535-scaled.jpg
ORGANIZER;CN="House of Praise":MAILTO:info@houseofpraiserichardson.org
END:VEVENT
BEGIN:VEVENT
DTSTART;TZID=America/New_York:20280409T100000
DTEND;TZID=America/New_York:20280409T113000
DTSTAMP:20260424T105827
CREATED:20190917T092646Z
LAST-MODIFIED:20241122T174830Z
UID:10000226-1838887200-1838892600@houseofpraiserichardson.org
SUMMARY:Sunday Service
DESCRIPTION:Join us on Sunday for a time of praise\, worship\, fellowship and empowerment.
URL:https://houseofpraiserichardson.org/event/church-sunday/2028-04-09/
LOCATION:Main Auditorium\, House of Praise\, 401 Bowser Road\, Richardson\, TX\, 75081\, United States
CATEGORIES:University
ATTACH;FMTTYPE=image/jpeg:https://houseofpraiserichardson.org/wp-content/uploads/2019/09/DSC_2535-scaled.jpg
ORGANIZER;CN="House of Praise":MAILTO:info@houseofpraiserichardson.org
END:VEVENT
BEGIN:VEVENT
DTSTART;TZID=America/New_York:20280416T100000
DTEND;TZID=America/New_York:20280416T113000
DTSTAMP:20260424T105827
CREATED:20190917T092646Z
LAST-MODIFIED:20241122T174830Z
UID:10000227-1839492000-1839497400@houseofpraiserichardson.org
SUMMARY:Sunday Service
DESCRIPTION:Join us on Sunday for a time of praise\, worship\, fellowship and empowerment.
URL:https://houseofpraiserichardson.org/event/church-sunday/2028-04-16/
LOCATION:Main Auditorium\, House of Praise\, 401 Bowser Road\, Richardson\, TX\, 75081\, United States
CATEGORIES:University
ATTACH;FMTTYPE=image/jpeg:https://houseofpraiserichardson.org/wp-content/uploads/2019/09/DSC_2535-scaled.jpg
ORGANIZER;CN="House of Praise":MAILTO:info@houseofpraiserichardson.org
END:VEVENT
BEGIN:VEVENT
DTSTART;TZID=America/New_York:20280423T100000
DTEND;TZID=America/New_York:20280423T113000
DTSTAMP:20260424T105827
CREATED:20190917T092646Z
LAST-MODIFIED:20241122T174830Z
UID:10000228-1840096800-1840102200@houseofpraiserichardson.org
SUMMARY:Sunday Service
DESCRIPTION:Join us on Sunday for a time of praise\, worship\, fellowship and empowerment.
URL:https://houseofpraiserichardson.org/event/church-sunday/2028-04-23/
LOCATION:Main Auditorium\, House of Praise\, 401 Bowser Road\, Richardson\, TX\, 75081\, United States
CATEGORIES:University
ATTACH;FMTTYPE=image/jpeg:https://houseofpraiserichardson.org/wp-content/uploads/2019/09/DSC_2535-scaled.jpg
ORGANIZER;CN="House of Praise":MAILTO:info@houseofpraiserichardson.org
END:VEVENT
BEGIN:VEVENT
DTSTART;TZID=America/New_York:20280430T100000
DTEND;TZID=America/New_York:20280430T113000
DTSTAMP:20260424T105827
CREATED:20190917T092646Z
LAST-MODIFIED:20241122T174830Z
UID:10000229-1840701600-1840707000@houseofpraiserichardson.org
SUMMARY:Sunday Service
DESCRIPTION:Join us on Sunday for a time of praise\, worship\, fellowship and empowerment.
URL:https://houseofpraiserichardson.org/event/church-sunday/2028-04-30/
LOCATION:Main Auditorium\, House of Praise\, 401 Bowser Road\, Richardson\, TX\, 75081\, United States
CATEGORIES:University
ATTACH;FMTTYPE=image/jpeg:https://houseofpraiserichardson.org/wp-content/uploads/2019/09/DSC_2535-scaled.jpg
ORGANIZER;CN="House of Praise":MAILTO:info@houseofpraiserichardson.org
END:VEVENT
BEGIN:VEVENT
DTSTART;TZID=America/New_York:20280507T100000
DTEND;TZID=America/New_York:20280507T113000
DTSTAMP:20260424T105827
CREATED:20190917T092646Z
LAST-MODIFIED:20241122T174830Z
UID:10000230-1841306400-1841311800@houseofpraiserichardson.org
SUMMARY:Sunday Service
DESCRIPTION:Join us on Sunday for a time of praise\, worship\, fellowship and empowerment.
URL:https://houseofpraiserichardson.org/event/church-sunday/2028-05-07/
LOCATION:Main Auditorium\, House of Praise\, 401 Bowser Road\, Richardson\, TX\, 75081\, United States
CATEGORIES:University
ATTACH;FMTTYPE=image/jpeg:https://houseofpraiserichardson.org/wp-content/uploads/2019/09/DSC_2535-scaled.jpg
ORGANIZER;CN="House of Praise":MAILTO:info@houseofpraiserichardson.org
END:VEVENT
BEGIN:VEVENT
DTSTART;TZID=America/New_York:20280514T100000
DTEND;TZID=America/New_York:20280514T113000
DTSTAMP:20260424T105827
CREATED:20190917T092646Z
LAST-MODIFIED:20241122T174830Z
UID:10000231-1841911200-1841916600@houseofpraiserichardson.org
SUMMARY:Sunday Service
DESCRIPTION:Join us on Sunday for a time of praise\, worship\, fellowship and empowerment.
URL:https://houseofpraiserichardson.org/event/church-sunday/2028-05-14/
LOCATION:Main Auditorium\, House of Praise\, 401 Bowser Road\, Richardson\, TX\, 75081\, United States
CATEGORIES:University
ATTACH;FMTTYPE=image/jpeg:https://houseofpraiserichardson.org/wp-content/uploads/2019/09/DSC_2535-scaled.jpg
ORGANIZER;CN="House of Praise":MAILTO:info@houseofpraiserichardson.org
END:VEVENT
BEGIN:VEVENT
DTSTART;TZID=America/New_York:20280521T100000
DTEND;TZID=America/New_York:20280521T113000
DTSTAMP:20260424T105827
CREATED:20190917T092646Z
LAST-MODIFIED:20241122T174830Z
UID:10000232-1842516000-1842521400@houseofpraiserichardson.org
SUMMARY:Sunday Service
DESCRIPTION:Join us on Sunday for a time of praise\, worship\, fellowship and empowerment.
URL:https://houseofpraiserichardson.org/event/church-sunday/2028-05-21/
LOCATION:Main Auditorium\, House of Praise\, 401 Bowser Road\, Richardson\, TX\, 75081\, United States
CATEGORIES:University
ATTACH;FMTTYPE=image/jpeg:https://houseofpraiserichardson.org/wp-content/uploads/2019/09/DSC_2535-scaled.jpg
ORGANIZER;CN="House of Praise":MAILTO:info@houseofpraiserichardson.org
END:VEVENT
BEGIN:VEVENT
DTSTART;TZID=America/New_York:20280528T100000
DTEND;TZID=America/New_York:20280528T113000
DTSTAMP:20260424T105827
CREATED:20190917T092646Z
LAST-MODIFIED:20241122T174830Z
UID:10000233-1843120800-1843126200@houseofpraiserichardson.org
SUMMARY:Sunday Service
DESCRIPTION:Join us on Sunday for a time of praise\, worship\, fellowship and empowerment.
URL:https://houseofpraiserichardson.org/event/church-sunday/2028-05-28/
LOCATION:Main Auditorium\, House of Praise\, 401 Bowser Road\, Richardson\, TX\, 75081\, United States
CATEGORIES:University
ATTACH;FMTTYPE=image/jpeg:https://houseofpraiserichardson.org/wp-content/uploads/2019/09/DSC_2535-scaled.jpg
ORGANIZER;CN="House of Praise":MAILTO:info@houseofpraiserichardson.org
END:VEVENT
BEGIN:VEVENT
DTSTART;TZID=America/New_York:20280604T100000
DTEND;TZID=America/New_York:20280604T113000
DTSTAMP:20260424T105827
CREATED:20190917T092646Z
LAST-MODIFIED:20241122T174830Z
UID:10000234-1843725600-1843731000@houseofpraiserichardson.org
SUMMARY:Sunday Service
DESCRIPTION:Join us on Sunday for a time of praise\, worship\, fellowship and empowerment.
URL:https://houseofpraiserichardson.org/event/church-sunday/2028-06-04/
LOCATION:Main Auditorium\, House of Praise\, 401 Bowser Road\, Richardson\, TX\, 75081\, United States
CATEGORIES:University
ATTACH;FMTTYPE=image/jpeg:https://houseofpraiserichardson.org/wp-content/uploads/2019/09/DSC_2535-scaled.jpg
ORGANIZER;CN="House of Praise":MAILTO:info@houseofpraiserichardson.org
END:VEVENT
BEGIN:VEVENT
DTSTART;TZID=America/New_York:20280611T100000
DTEND;TZID=America/New_York:20280611T113000
DTSTAMP:20260424T105827
CREATED:20190917T092646Z
LAST-MODIFIED:20241122T174830Z
UID:10000235-1844330400-1844335800@houseofpraiserichardson.org
SUMMARY:Sunday Service
DESCRIPTION:Join us on Sunday for a time of praise\, worship\, fellowship and empowerment.
URL:https://houseofpraiserichardson.org/event/church-sunday/2028-06-11/
LOCATION:Main Auditorium\, House of Praise\, 401 Bowser Road\, Richardson\, TX\, 75081\, United States
CATEGORIES:University
ATTACH;FMTTYPE=image/jpeg:https://houseofpraiserichardson.org/wp-content/uploads/2019/09/DSC_2535-scaled.jpg
ORGANIZER;CN="House of Praise":MAILTO:info@houseofpraiserichardson.org
END:VEVENT
BEGIN:VEVENT
DTSTART;TZID=America/New_York:20280618T100000
DTEND;TZID=America/New_York:20280618T113000
DTSTAMP:20260424T105827
CREATED:20190917T092646Z
LAST-MODIFIED:20241122T174830Z
UID:10000236-1844935200-1844940600@houseofpraiserichardson.org
SUMMARY:Sunday Service
DESCRIPTION:Join us on Sunday for a time of praise\, worship\, fellowship and empowerment.
URL:https://houseofpraiserichardson.org/event/church-sunday/2028-06-18/
LOCATION:Main Auditorium\, House of Praise\, 401 Bowser Road\, Richardson\, TX\, 75081\, United States
CATEGORIES:University
ATTACH;FMTTYPE=image/jpeg:https://houseofpraiserichardson.org/wp-content/uploads/2019/09/DSC_2535-scaled.jpg
ORGANIZER;CN="House of Praise":MAILTO:info@houseofpraiserichardson.org
END:VEVENT
BEGIN:VEVENT
DTSTART;TZID=America/New_York:20280625T100000
DTEND;TZID=America/New_York:20280625T113000
DTSTAMP:20260424T105827
CREATED:20190917T092646Z
LAST-MODIFIED:20241122T174830Z
UID:10000237-1845540000-1845545400@houseofpraiserichardson.org
SUMMARY:Sunday Service
DESCRIPTION:Join us on Sunday for a time of praise\, worship\, fellowship and empowerment.
URL:https://houseofpraiserichardson.org/event/church-sunday/2028-06-25/
LOCATION:Main Auditorium\, House of Praise\, 401 Bowser Road\, Richardson\, TX\, 75081\, United States
CATEGORIES:University
ATTACH;FMTTYPE=image/jpeg:https://houseofpraiserichardson.org/wp-content/uploads/2019/09/DSC_2535-scaled.jpg
ORGANIZER;CN="House of Praise":MAILTO:info@houseofpraiserichardson.org
END:VEVENT
BEGIN:VEVENT
DTSTART;TZID=America/New_York:20280702T100000
DTEND;TZID=America/New_York:20280702T113000
DTSTAMP:20260424T105827
CREATED:20190917T092646Z
LAST-MODIFIED:20241122T174830Z
UID:10000238-1846144800-1846150200@houseofpraiserichardson.org
SUMMARY:Sunday Service
DESCRIPTION:Join us on Sunday for a time of praise\, worship\, fellowship and empowerment.
URL:https://houseofpraiserichardson.org/event/church-sunday/2028-07-02/
LOCATION:Main Auditorium\, House of Praise\, 401 Bowser Road\, Richardson\, TX\, 75081\, United States
CATEGORIES:University
ATTACH;FMTTYPE=image/jpeg:https://houseofpraiserichardson.org/wp-content/uploads/2019/09/DSC_2535-scaled.jpg
ORGANIZER;CN="House of Praise":MAILTO:info@houseofpraiserichardson.org
END:VEVENT
BEGIN:VEVENT
DTSTART;TZID=America/New_York:20280709T100000
DTEND;TZID=America/New_York:20280709T113000
DTSTAMP:20260424T105827
CREATED:20190917T092646Z
LAST-MODIFIED:20241122T174830Z
UID:10000239-1846749600-1846755000@houseofpraiserichardson.org
SUMMARY:Sunday Service
DESCRIPTION:Join us on Sunday for a time of praise\, worship\, fellowship and empowerment.
URL:https://houseofpraiserichardson.org/event/church-sunday/2028-07-09/
LOCATION:Main Auditorium\, House of Praise\, 401 Bowser Road\, Richardson\, TX\, 75081\, United States
CATEGORIES:University
ATTACH;FMTTYPE=image/jpeg:https://houseofpraiserichardson.org/wp-content/uploads/2019/09/DSC_2535-scaled.jpg
ORGANIZER;CN="House of Praise":MAILTO:info@houseofpraiserichardson.org
END:VEVENT
BEGIN:VEVENT
DTSTART;TZID=America/New_York:20280716T100000
DTEND;TZID=America/New_York:20280716T113000
DTSTAMP:20260424T105827
CREATED:20190917T092646Z
LAST-MODIFIED:20241122T174830Z
UID:10000240-1847354400-1847359800@houseofpraiserichardson.org
SUMMARY:Sunday Service
DESCRIPTION:Join us on Sunday for a time of praise\, worship\, fellowship and empowerment.
URL:https://houseofpraiserichardson.org/event/church-sunday/2028-07-16/
LOCATION:Main Auditorium\, House of Praise\, 401 Bowser Road\, Richardson\, TX\, 75081\, United States
CATEGORIES:University
ATTACH;FMTTYPE=image/jpeg:https://houseofpraiserichardson.org/wp-content/uploads/2019/09/DSC_2535-scaled.jpg
ORGANIZER;CN="House of Praise":MAILTO:info@houseofpraiserichardson.org
END:VEVENT
BEGIN:VEVENT
DTSTART;TZID=America/New_York:20280723T100000
DTEND;TZID=America/New_York:20280723T113000
DTSTAMP:20260424T105827
CREATED:20190917T092646Z
LAST-MODIFIED:20241122T174830Z
UID:10000241-1847959200-1847964600@houseofpraiserichardson.org
SUMMARY:Sunday Service
DESCRIPTION:Join us on Sunday for a time of praise\, worship\, fellowship and empowerment.
URL:https://houseofpraiserichardson.org/event/church-sunday/2028-07-23/
LOCATION:Main Auditorium\, House of Praise\, 401 Bowser Road\, Richardson\, TX\, 75081\, United States
CATEGORIES:University
ATTACH;FMTTYPE=image/jpeg:https://houseofpraiserichardson.org/wp-content/uploads/2019/09/DSC_2535-scaled.jpg
ORGANIZER;CN="House of Praise":MAILTO:info@houseofpraiserichardson.org
END:VEVENT
BEGIN:VEVENT
DTSTART;TZID=America/New_York:20280730T100000
DTEND;TZID=America/New_York:20280730T113000
DTSTAMP:20260424T105827
CREATED:20190917T092646Z
LAST-MODIFIED:20241122T174830Z
UID:10000242-1848564000-1848569400@houseofpraiserichardson.org
SUMMARY:Sunday Service
DESCRIPTION:Join us on Sunday for a time of praise\, worship\, fellowship and empowerment.
URL:https://houseofpraiserichardson.org/event/church-sunday/2028-07-30/
LOCATION:Main Auditorium\, House of Praise\, 401 Bowser Road\, Richardson\, TX\, 75081\, United States
CATEGORIES:University
ATTACH;FMTTYPE=image/jpeg:https://houseofpraiserichardson.org/wp-content/uploads/2019/09/DSC_2535-scaled.jpg
ORGANIZER;CN="House of Praise":MAILTO:info@houseofpraiserichardson.org
END:VEVENT
BEGIN:VEVENT
DTSTART;TZID=America/New_York:20280806T100000
DTEND;TZID=America/New_York:20280806T113000
DTSTAMP:20260424T105827
CREATED:20190917T092646Z
LAST-MODIFIED:20241122T174830Z
UID:10000243-1849168800-1849174200@houseofpraiserichardson.org
SUMMARY:Sunday Service
DESCRIPTION:Join us on Sunday for a time of praise\, worship\, fellowship and empowerment.
URL:https://houseofpraiserichardson.org/event/church-sunday/2028-08-06/
LOCATION:Main Auditorium\, House of Praise\, 401 Bowser Road\, Richardson\, TX\, 75081\, United States
CATEGORIES:University
ATTACH;FMTTYPE=image/jpeg:https://houseofpraiserichardson.org/wp-content/uploads/2019/09/DSC_2535-scaled.jpg
ORGANIZER;CN="House of Praise":MAILTO:info@houseofpraiserichardson.org
END:VEVENT
BEGIN:VEVENT
DTSTART;TZID=America/New_York:20280813T100000
DTEND;TZID=America/New_York:20280813T113000
DTSTAMP:20260424T105827
CREATED:20190917T092646Z
LAST-MODIFIED:20241122T174830Z
UID:10000244-1849773600-1849779000@houseofpraiserichardson.org
SUMMARY:Sunday Service
DESCRIPTION:Join us on Sunday for a time of praise\, worship\, fellowship and empowerment.
URL:https://houseofpraiserichardson.org/event/church-sunday/2028-08-13/
LOCATION:Main Auditorium\, House of Praise\, 401 Bowser Road\, Richardson\, TX\, 75081\, United States
CATEGORIES:University
ATTACH;FMTTYPE=image/jpeg:https://houseofpraiserichardson.org/wp-content/uploads/2019/09/DSC_2535-scaled.jpg
ORGANIZER;CN="House of Praise":MAILTO:info@houseofpraiserichardson.org
END:VEVENT
BEGIN:VEVENT
DTSTART;TZID=America/New_York:20280820T100000
DTEND;TZID=America/New_York:20280820T113000
DTSTAMP:20260424T105827
CREATED:20190917T092646Z
LAST-MODIFIED:20241122T174830Z
UID:10000245-1850378400-1850383800@houseofpraiserichardson.org
SUMMARY:Sunday Service
DESCRIPTION:Join us on Sunday for a time of praise\, worship\, fellowship and empowerment.
URL:https://houseofpraiserichardson.org/event/church-sunday/2028-08-20/
LOCATION:Main Auditorium\, House of Praise\, 401 Bowser Road\, Richardson\, TX\, 75081\, United States
CATEGORIES:University
ATTACH;FMTTYPE=image/jpeg:https://houseofpraiserichardson.org/wp-content/uploads/2019/09/DSC_2535-scaled.jpg
ORGANIZER;CN="House of Praise":MAILTO:info@houseofpraiserichardson.org
END:VEVENT
BEGIN:VEVENT
DTSTART;TZID=America/New_York:20280827T100000
DTEND;TZID=America/New_York:20280827T113000
DTSTAMP:20260424T105827
CREATED:20190917T092646Z
LAST-MODIFIED:20241122T174830Z
UID:10000246-1850983200-1850988600@houseofpraiserichardson.org
SUMMARY:Sunday Service
DESCRIPTION:Join us on Sunday for a time of praise\, worship\, fellowship and empowerment.
URL:https://houseofpraiserichardson.org/event/church-sunday/2028-08-27/
LOCATION:Main Auditorium\, House of Praise\, 401 Bowser Road\, Richardson\, TX\, 75081\, United States
CATEGORIES:University
ATTACH;FMTTYPE=image/jpeg:https://houseofpraiserichardson.org/wp-content/uploads/2019/09/DSC_2535-scaled.jpg
ORGANIZER;CN="House of Praise":MAILTO:info@houseofpraiserichardson.org
END:VEVENT
BEGIN:VEVENT
DTSTART;TZID=America/New_York:20280903T100000
DTEND;TZID=America/New_York:20280903T113000
DTSTAMP:20260424T105827
CREATED:20190917T092646Z
LAST-MODIFIED:20241122T174830Z
UID:10000247-1851588000-1851593400@houseofpraiserichardson.org
SUMMARY:Sunday Service
DESCRIPTION:Join us on Sunday for a time of praise\, worship\, fellowship and empowerment.
URL:https://houseofpraiserichardson.org/event/church-sunday/2028-09-03/
LOCATION:Main Auditorium\, House of Praise\, 401 Bowser Road\, Richardson\, TX\, 75081\, United States
CATEGORIES:University
ATTACH;FMTTYPE=image/jpeg:https://houseofpraiserichardson.org/wp-content/uploads/2019/09/DSC_2535-scaled.jpg
ORGANIZER;CN="House of Praise":MAILTO:info@houseofpraiserichardson.org
END:VEVENT
BEGIN:VEVENT
DTSTART;TZID=America/New_York:20280910T100000
DTEND;TZID=America/New_York:20280910T113000
DTSTAMP:20260424T105827
CREATED:20190917T092646Z
LAST-MODIFIED:20241122T174830Z
UID:10000248-1852192800-1852198200@houseofpraiserichardson.org
SUMMARY:Sunday Service
DESCRIPTION:Join us on Sunday for a time of praise\, worship\, fellowship and empowerment.
URL:https://houseofpraiserichardson.org/event/church-sunday/2028-09-10/
LOCATION:Main Auditorium\, House of Praise\, 401 Bowser Road\, Richardson\, TX\, 75081\, United States
CATEGORIES:University
ATTACH;FMTTYPE=image/jpeg:https://houseofpraiserichardson.org/wp-content/uploads/2019/09/DSC_2535-scaled.jpg
ORGANIZER;CN="House of Praise":MAILTO:info@houseofpraiserichardson.org
END:VEVENT
BEGIN:VEVENT
DTSTART;TZID=America/New_York:20280917T100000
DTEND;TZID=America/New_York:20280917T113000
DTSTAMP:20260424T105827
CREATED:20190917T092646Z
LAST-MODIFIED:20241122T174830Z
UID:10000249-1852797600-1852803000@houseofpraiserichardson.org
SUMMARY:Sunday Service
DESCRIPTION:Join us on Sunday for a time of praise\, worship\, fellowship and empowerment.
URL:https://houseofpraiserichardson.org/event/church-sunday/2028-09-17/
LOCATION:Main Auditorium\, House of Praise\, 401 Bowser Road\, Richardson\, TX\, 75081\, United States
CATEGORIES:University
ATTACH;FMTTYPE=image/jpeg:https://houseofpraiserichardson.org/wp-content/uploads/2019/09/DSC_2535-scaled.jpg
ORGANIZER;CN="House of Praise":MAILTO:info@houseofpraiserichardson.org
END:VEVENT
END:VCALENDAR